{"text_format":"1","workbook":"xlsx","n_sheets":7,"sheets":["1","1CONCARGAS","EG","Equivalencias","Escala con puestos","Escala con puestos (2)","2"],"not_rendered":{"charts":0,"images":4,"macros":0,"external_links":1,"defined_names":10,"comments":0,"pivot_tables":0},"unopened":[],"bounds":{"document_bytes":16777216,"sheet_cells":100000,"rows_first":2000,"rows_last":500,"rows_between":2000,"halvings":0,"cell_chars":16384,"cell_head_chars":4096},"cells_cut":0,"cells_raw":0,"read":"whole","date_system":"1900"}

{"sheet":"1","index":0,"n_rows":67,"n_cols":8,"rows_kept":67,"cut":false,"hidden":false,"merged":[[66,1,66,6],[0,1,0,7],[1,1,1,7],[8,1,8,7],[47,1,47,6],[30,1,30,7]]}
[null,"ESCALAS SALARIALES VIGENTES BANCO CENTRAL Y ENTES DESCONCENTRADOS \nAÑO 2016"]
[null,"ESCALA GERENCIAL GLOBAL"]
[null,"Categoría","Puesto","Salario Único Semanal","Prohibición Semanal","Salario Contratación Semanal","Salario Bisemanal","Salario Mensual"]
[null,1,"Subauditor interno",885905,330443,{"$f":"+D4+E4","v":1216348},{"$f":"+F4*2","v":2432696},{"$f":"+G4*2.16666666666667","v":5270841.3333333414}]
[null,2,"Auditor interno",1122147,418561,{"$f":"+D5+E5","v":1540708},{"$f":"+F5*2","v":3081416},{"$f":"+G5*2.16666666666667","v":6676401.3333333442}]
[null,3,"Subgerente - Intendente",1181206,440590,{"$f":"+D6+E6","v":1621796},{"$f":"+F6*2","v":3243592},{"$f":"+G6*2.16666666666667","v":7027782.6666666782}]
[null,4,"Gerente - Superintendente",1603715,598186,{"$f":"+D7+E7","v":2201901},{"$f":"+F7*2","v":4403802},{"$f":"+G7*2.16666666666667","v":9541571.0000000149}]
[null,5,"Presidente",1696950,632962.35,{"$f":"+D8+E8","v":2329912.35},{"$f":"+F8*2","v":4659824.7},{"$f":"+G8*2.16666666666667","v":10096286.850000016}]
[null,{"$f":"+'1CONCARGAS'!B10:L10","v":"Montos congelados con base en el artículo 4 del acta de la sesión de la Junta Directiva del BCCR 5676-2015, celebrada el 21 de enero del 2015, mantienen dicha condición con base en el artículo 4 del acta de la sesión 5714-2016, celebrada el 9 de marzo del 2016."}]
[]
[null,"ESCALA REGULAR GLOBAL"]
[null,"Categoría","Puesto","Salario Único Semanal","Prohibición Semanal","Salario Contratación Semanal","Salario Bisemanal","Salario Mensual"]
[null,1,"Asistente Servicios Generales 1",93647,0,{"$f":"+SUM(D13:E13)","v":93647},{"$f":"+F13*2","v":187294},{"$f":"+G13*2.16666666666667","v":405803.66666666733}]
[null,2,"Asistente Servicios Generales 2 /Asistente Servicios Institucionales 1",114734,0,114734,229468,497180.66666666744]
[null,3,"Asistente Servicios Institucionales 2",123977,0,123977,247954,537233.66666666756]
[null,4,"Técnico Servicios Institucionales 1",161124,0,161124,322248,698204.00000000105]
[null,5,"Técnico Servicios Institucionales 2",173091,0,173091,346182,750061.00000000116]
[null,6,"Profesional Gestión Bancaria (PGB) 1 / Profesional en Enfermería",245109,0,245109,490218,1062139.0000000016]
[null,7,"Profesional Gestión Informática (PGI) 1 / PGB 2 / Supervisor 1",303933,0,303933,607866,1317043.0000000021]
[null,"07 AI","Profesional Gestión Auditoría Interna 2",{"$f":"+D19","v":303933},{"$f":"+F60*0.65","v":89161.150000000009},{"$f":"+SUM(D20:E20)","v":393094.15},{"$f":"+F20*2","v":786188.3},{"$f":"+G20*2.16666666666667","v":1703407.9833333362}]
[null,8,"Supervisor 2 /Supervisor TI /PGB 3 \n/PGI 2",372494,0,372494,744988,1614140.6666666693]
[null,"08 AI","Profesional Gestión Auditoría Interna 3",{"$f":"+D21","v":372494},{"$f":"+F61*0.65","v":99078.2},{"$f":"+SUM(D22:E22)","v":471572.2},{"$f":"+F22*2","v":943144.4},{"$f":"+G22*2.16666666666667","v":2043479.5333333367}]
[null,9,"Ejecutivo de área /Supervisor Principal /PGB 4 /PGI 3",459618,0,459618,919236,1991678.000000003]
[null,"09 AI","Profesional Gestión Auditoría Interna 4",{"$f":"+D23","v":459618},{"$f":"+F62*0.65","v":123397.95},{"$f":"+SUM(D24:E24)","v":583015.94999999995},{"$f":"+F24*2","v":1166031.8999999999},{"$f":"+G24*2.16666666666667","v":2526402.4500000039}]
[null,10,"Director de Departamento /Líder de Supervisión /Director de Despacho /Analista Experto",771089,0,771089,1542178,3341385.6666666721]
[null,"10 AI","Director de Departamento con prohibición",{"$f":"+D25","v":771089},{"$f":"+F63*0.65","v":175507.80000000002},{"$f":"+SUM(D26:E26)","v":946596.8},{"$f":"+F26*2","v":1893193.6},{"$f":"+G26*2.16666666666667","v":4101919.4666666733}]
[null,11,"Profesional Gestión Bancaria 5",774247,0,774247,1548494,3355070.3333333386]
[null,12,"Director de División /Director de Supervisión /Director en Investigación\n/Profesional en Investigación",1085543,0,1085543,2171086,4704019.6666666744]
[null,"12 AI","Director de División con prohibición",{"$f":"+D28","v":1085543},{"$f":"+F65*0.65","v":254515.95},{"$f":"+SUM(D29:E29)","v":1340058.95},{"$f":"+F29*2","v":2680117.9},{"$f":"+G29*2.16666666666667","v":5806922.1166666755}]
[null,13,"Economista en Jefe",1305192,0,{"$f":"+SUM(D30:E30)","v":1305192},{"$f":"+F30*2","v":2610384},{"$f":"+G30*2.16666666666667","v":5655832.0000000093}]
[null,{"$f":"+'1CONCARGAS'!B33:J33","v":"Escalas se mantienen sin ajustes con base en el artículo 4 del acta de la sesión 5714-2016, celebrada el 9 de marzo del 2016"}]
[null,"ESCALA SERVICIOS ESPECIALES"]
[null,"Categoría","Puesto","Salario Único Semanal","Costo de Vida Semanal","Salario Contratación Semanal","Salario Bisemanal","Salario Mensual"]
[null,5,"Asesor Técnico",{"$f":"+D17","v":173091},0,{"$f":"+SUM(D34:E34)","v":173091},{"$f":"+F34*2","v":346182},{"$f":"+G34*2.16666666666667","v":750061.00000000116}]
[null,6,"Asesor 1",{"$f":"+D18","v":245109},0,245109,490218,1062139.0000000016]
[null,7,"Asesor 2",{"$f":"+D19","v":303933},0,303933,607866,1317043.0000000021]
[null,8,"Asesor 3",{"$f":"+D21","v":372494},0,372494,744988,1614140.6666666693]
[null,9,"Asesor 4",{"$f":"+D23","v":459618},0,459618,919236,1991678.000000003]
[null,12,"Asesor en Investigación",{"$f":"+D29","v":1085543},0,1085543,2171086,4704019.6666666744]
[]
[null,"ESCALA GERENCIAL DE BÁSICO MÁS PLUSES"]
[null,"Categoría","Puesto","Salario Base Semanal","Costo de Vida Semanal","Salario Contratación Semanal","Salario Bisemanal","Salario Mensual"]
[null,null,"Subauditor interno",{"$f":"+D44*1.15","v":443727.49999999994}]
[null,1,"Subauditor interno",385850,0,{"$f":"+D44+E44","v":385850},{"$f":"+F44*2","v":771700},{"$f":"+G44*2.16666666666667","v":1672016.6666666693}]
[null,2,"Auditor interno",488743,0,{"$f":"+D45+E45","v":488743},{"$f":"+F45*2","v":977486},{"$f":"+G45*2.16666666666667","v":2117886.3333333367}]
[null,3,"Subgerente - Intendente",618002,0,{"$f":"+D46+E46","v":618002},{"$f":"+F46*2","v":1236004},{"$f":"+G46*2.16666666666667","v":2678008.6666666707}]
[null,4,"Gerente - Superintendente",635414,0,{"$f":"+D47+E47","v":635414},{"$f":"+F47*2","v":1270828},{"$f":"+G47*2.16666666666667","v":2753460.6666666712}]
[null,{"$f":"+B9","v":"Montos congelados con base en el artículo 4 del acta de la sesión de la Junta Directiva del BCCR 5676-2015, celebrada el 21 de enero del 2015, mantienen dicha condición con base en el artículo 4 del acta de la sesión 5714-2016, celebrada el 9 de marzo del 2016."}]
[null,"ESCALA REGULAR DE BÁSICO MÁS PLUSES"]
[null,"Categoría","Puesto","Salario Base Semanal","Costo de Vida Semanal","Salario Contratación Semanal","Salario Bisemanal","Salario Mensual"]
[null,4,"Asistente Servicios Generales 1",42475,2998,{"$f":"+D51+E51","v":45473},{"$f":"+F51*2","v":90946},{"$f":"+G51*2.16666666666667","v":197049.66666666698}]
[null,5,"Asistente Servicios Generales 1",45446,2998,48444,96888,209924.00000000032]
[null,6,"Asistente Servicios Generales 2 ",48632,2998,51630,103260,223730.00000000035]
[null,7,"Asistente Servicios Generales 2 ",52037,2998,55035,110070,238485.00000000038]
[null,8,"Asistente Servicios Institucionales 1",55680,2998,58678,117356,254271.33333333372]
[null,9,"Asistente Servicios Institucionales 2",59575,2998,62573,125146,271149.66666666709]
[null,10,"Técnico Servicios Institucionales 1",63744,2998,66742,133484,289215.33333333378]
[null,12,"Técnico Servicios Institucionales 2",79077,2998,82075,164150,355658.3333333339]
[null,19,"Profesional Gestión Bancaria (PGB) 1 / Profesional en Enfermerería",117194,2998,120192,240384,520832.00000000081]
[null,21,"Profesional Gestión Informática (PGI) 1 / PGB 2 / Supervisor 1",134173,2998,137171,274342,594407.66666666756]
[null,22,"Supervisor 2 /Supervisor TI /PGB 3 \n/PGI 2",149430,2998,152428,304856,660521.33333333442]
[null,25,"Ejecutivo de área /Supervisor Principal /PGB 4 /PGI 3",186845,2998,189843,379686,822653.00000000128]
[null,31,"Director de Departamento /Líder de Supervisión /Director de Despacho /Analista Experto",267014,2998,270012,540024,1170052.0000000019]
[null,32,"Profesional Gestión Bancaria 5",290637,2998,{"$f":"+D64+E64","v":293635},{"$f":"+F64*2","v":587270},{"$f":"+G64*2.16666666666667","v":1272418.3333333354}]
[null,36,"Director de División /Director de Supervisión /Director en Investigación\n/Profesional en Investigación",388565,2998,391563,783126,1696773.0000000026]
[null,37,"Economista en Jefe",456817,2998,459815,919630,1992531.6666666698]
[null,"Rigen a partir del 1° de enero 2015, según acuerdos de Junta Directiva de la sesión 5675-2015, artículo 8 del 14 de enero del 2015. "]

{"sheet":"1CONCARGAS","index":1,"n_rows":72,"n_cols":12,"rows_kept":72,"cut":false,"hidden":false,"merged":[[32,1,32,9],[51,1,51,11],[71,1,71,9],[9,1,9,11],[2,3,2,5],[2,6,2,8],[2,9,2,11],[53,3,53,5]]}
[null,"ESCALAS SALARIALES VIGENTES BANCO CENTRAL Y ENTES DESCONCENTRADOS \nAÑO 2016"]
[null,"ESCALA GERENCIAL GLOBAL"]
[null,null,null,"Montos semanales en colones",null,null,"Montos bisemanales en colones",null,null,"Montos mensuales promedio"]
[null,"Categoría","Puesto","Salario Contratación Semanal","Cargas Patronales","Salario semanal con Cargas Patronales","Salario Bisemanal","Cargas Patronales","Salario Bisemanal con Cargas Patronales","Salario Mensual","Cargas Patronales","Salario Mensual con Cargas Patronales"]
[null,1,"Subauditor interno",{"$f":"+'1'!F4","v":1216348},{"$f":"+D5*0.3999333","v":486458.06958840002},{"$f":"+D5+E5","v":1702806.0695884},{"$f":"+D5*2","v":2432696},{"$f":"+G5*0.3999333","v":972916.13917680003},{"$f":"+G5+H5","v":3405612.1391767999},{"$f":"+G5*2.16666666666667","v":5270841.3333333414},{"$f":"+J5*0.3999333","v":2107984.9682164034},{"$f":"+J5+K5","v":7378826.3015497448}]
[null,2,"Auditor interno",{"$f":"+'1'!F5","v":1540708},{"$f":"+D6*0.3999333","v":616180.43477639998},{"$f":"+D6+E6","v":2156888.4347764002},{"$f":"+D6*2","v":3081416},{"$f":"+G6*0.3999333","v":1232360.8695528},{"$f":"+G6+H6","v":4313776.8695528004},{"$f":"+G6*2.16666666666667","v":6676401.3333333442},{"$f":"+J6*0.3999333","v":2670115.2173644044},{"$f":"+J6+K6","v":9346516.5506977476}]
[null,3,"Subgerente - Intendente",{"$f":"+'1'!F6","v":1621796},648610.22620679997,2270406.2262068,3243592,1297220.4524135999,4540812.4524135999,7027782.6666666782,2810644.3135628044,9838426.9802294821]
[null,4,"Gerente - Superintendente",{"$f":"+'1'!F7","v":2201901},880613.53320329997,3082514.5332033001,4403802,1761227.0664065999,6165029.0664066002,9541571.0000000149,3815991.9772143057,13357562.977214321]
[null,5,"Presidente",{"$f":"+'1'!F8","v":2329912.35},931809.53484625497,3261721.8848462552,4659824.7,1863619.0696925099,6523443.7696925104,10096286.850000016,4037841.3176671113,14134128.167667128]
[null,"Montos congelados con base en el artículo 4 del acta de la sesión de la Junta Directiva del BCCR 5676-2015, celebrada el 21 de enero del 2015, mantienen dicha condición con base en el artículo 4 del acta de la sesión 5714-2016, celebrada el 9 de marzo del 2016."]
[]
[null,"ESCALA REGULAR GLOBAL"]
[null,null,null,"Montos semanales en colones",null,null,"Montos bisemanales en colones",null,null,"Montos mensuales promedio"]
[null,"Categoría","Puesto","Salario Contratación Semanal","Cargas Patronales","Salario semanal con Cargas Patronales","Salario Bisemanal","Cargas Patronales","Salario Bisemanal con Cargas Patronales","Salario Mensual","Cargas Patronales","Salario Mensual con Cargas Patronales"]
[null,1,"Asistente Servicios Generales 1",{"$f":"+'1'!F13","v":93647},{"$f":"+D15*0.3999333","v":37452.553745099998},{"$f":"+E15+D15","v":131099.55374509998},{"$f":"+D15*2","v":187294},{"$f":"+G15*0.3999333","v":74905.107490199996},{"$f":"+H15+G15","v":262199.10749019997},{"$f":"+G15*2.16666666666667","v":405803.66666666733},{"$f":"+J15*0.3999333","v":162294.39956210027},{"$f":"+K15+J15","v":568098.06622876762}]
[null,2,"Asistente Servicios Generales 2 /Asistente Servicios Institucionales 1",{"$f":"+'1'!F14","v":114734},{"$f":"+D16*0.3999333","v":45885.947242199996},{"$f":"+E16+D16","v":160619.9472422},{"$f":"+D16*2","v":229468},{"$f":"+G16*0.3999333","v":91771.894484399993},{"$f":"+H16+G16","v":321239.89448439999},{"$f":"+G16*2.16666666666667","v":497180.66666666744},{"$f":"+J16*0.3999333","v":198839.10471620029},{"$f":"+K16+J16","v":696019.77138286771}]
[null,3,"Asistente Servicios Institucionales 2",{"$f":"+'1'!F15","v":123977},49582.530734100001,173559.5307341,247954,99165.061468200001,347119.0614682,537233.66666666756,214857.63318110036,752091.29984776792]
[null,4,"Técnico Servicios Institucionales 1",{"$f":"+'1'!F16","v":161124},64438.8530292,225562.85302919999,322248,128877.7060584,451125.70605839998,698204.00000000105,279235.02979320043,977439.02979320148]
[null,5,"Técnico Servicios Institucionales 2",{"$f":"+'1'!F17","v":173091},69224.854830299999,242315.8548303,346182,138449.7096606,484631.7096606,750061.00000000116,299974.37093130045,1050035.3709313017]
[null,6,"Profesional Gestión Bancaria (PGB) 1 / Profesional en Enfermería",{"$f":"+'1'!F18","v":245109},98027.251229699992,343136.25122969999,490218,196054.50245939998,686272.50245939998,1062139.0000000016,424784.75532870064,1486923.7553287023]
[null,7,"Profesional Gestión Informática (PGI) 1 / PGB 2 / Supervisor 1",{"$f":"+'1'!F19","v":303933},121552.9276689,425485.9276689,607866,243105.85533779999,850971.85533779999,1317043.0000000021,526729.35323190084,1843772.3532319029]
[null,"07 AI","Profesional Gestión Auditoría Interna 2",{"$f":"+'1'!F20","v":393094.15},157211.440620195,550305.59062019503,786188.3,314422.88124039001,1100611.1812403901,1703407.9833333362,681249.57602084614,2384657.5593541823]
[null,8,"Supervisor 2 /Supervisor TI /PGB 3 \n/PGI 2",{"$f":"+'1'!F21","v":372494},148972.75465019999,521466.75465020002,744988,297945.50930039998,1042933.5093004,1614140.6666666693,645548.60348420101,2259689.2701508701]
[null,"08 AI","Profesional Gestión Auditoría Interna 3",{"$f":"+'1'!F22","v":471572.2},188597.42613425999,660169.62613425998,943144.4,377194.85226851999,1320339.25226852,2043479.5333333367,817255.5132484613,2860735.0465817982]
[null,9,"Ejecutivo de área /Supervisor Principal /PGB 4 /PGI 3",{"$f":"+'1'!F23","v":459618},183816.54347939999,643434.54347939999,919236,367633.08695879998,1286869.0869588,1991678.000000003,796538.35507740115,2788216.3550774041]
[null,"09 AI","Profesional Gestión Auditoría Interna 4",{"$f":"+'1'!F24","v":583015.94999999995},233167.49283613497,816183.44283613493,1166031.8999999999,466334.98567226995,1632366.8856722699,2526402.4500000039,1010392.4689565866,3536794.9189565904]
[null,10,"Director de Departamento /Líder de Supervisión /Director de Despacho /Analista Experto",{"$f":"+'1'!F25","v":771089},308384.16836369998,1079473.1683636999,1542178,616768.33672739996,2158946.3367273998,3341385.6666666721,1336331.3962427021,4677717.062909374]
[null,"10 AI","Director de Departamento con prohibición",{"$f":"+'1'!F26","v":946596.8},378575.58199343999,1325172.38199344,1893193.6,757151.16398687998,2650344.76398688,4101919.4666666733,1640494.1886382427,5742413.6553049162]
[null,11,"Profesional Gestión Bancaria 5",{"$f":"+'1'!F27","v":774247},309647.1577251,1083894.1577250999,1548494,619294.3154502,2167788.3154501999,3355070.3333333386,1341804.350142102,4696874.6834754404]
[null,12,"Director de División /Director de Supervisión /Director en Investigación\n/Profesional en Investigación",{"$f":"+'1'!F28","v":1085543},434144.79428189999,1519687.7942818999,2171086,868289.58856379997,3039375.5885637999,4704019.6666666744,1881294.108554903,6585313.7752215769]
[null,"12 AI","Director de División con prohibición",{"$f":"+'1'!F29","v":1340058.95},535934.19806803495,1875993.148068035,2680117.9,1071868.3961360699,3751986.29613607,5806922.1166666755,2322381.5249614883,8129303.6416281639]
[null,13,"Economista en Jefe",{"$f":"+'1'!F30","v":1305192},521989.7436936,1827181.7436935999,2610384,1043979.4873872,3654363.4873871999,5655832.0000000093,2261955.5560056036,7917787.5560056129]
[null,"Escalas se mantienen sin ajustes con base en el artículo 4 del acta de la sesión 5714-2016, celebrada el 9 de marzo del 2016"]
[null,"ESCALA SERVICIOS ESPECIALES"]
[null,null,null,"Montos semanales en colones",null,null,"Montos bisemanales en colones",null,null,"Montos mensuales promedio"]
[null,"Categoría","Puesto","Salario Contratación Semanal","Cargas Patronales","Salario semanal con Cargas Patronales","Salario Bisemanal","Cargas Patronales","Salario Bisemanal con Cargas Patronales","Salario Mensual","Cargas Patronales","Salario Mensual con Cargas Patronales"]
[null,5,"Asesor Técnico",{"$f":"+D19","v":173091},{"$f":"+D37*0.3999333","v":69224.854830299999},{"$f":"+D37+E37","v":242315.8548303},{"$f":"+D37*2","v":346182},{"$f":"+G37*0.3999333","v":138449.7096606},{"$f":"+G37+H37","v":484631.7096606},{"$f":"+G37*2.16666666666667","v":750061.00000000116},{"$f":"+J37*0.3999333","v":299974.37093130045},{"$f":"+J37+K37","v":1050035.3709313017}]
[null,6,"Asesor 1",{"$f":"+D20","v":245109},{"$f":"+D38*0.3999333","v":98027.251229699992},{"$f":"+D38+E38","v":343136.25122969999},490218,{"$f":"+G38*0.3999333","v":196054.50245939998},{"$f":"+G38+H38","v":686272.50245939998},1062139.0000000016,{"$f":"+J38*0.3999333","v":424784.75532870064},{"$f":"+J38+K38","v":1486923.7553287023}]
[null,7,"Asesor 2",{"$f":"+D21","v":303933},121552.9276689,425485.9276689,607866,243105.85533779999,850971.85533779999,1317043.0000000021,526729.35323190084,1843772.3532319029]
[null,8,"Asesor 3",{"$f":"+D23","v":372494},148972.75465019999,521466.75465020002,744988,297945.50930039998,1042933.5093004,1614140.6666666693,645548.60348420101,2259689.2701508701]
[null,9,"Asesor 4",{"$f":"+D25","v":459618},183816.54347939999,643434.54347939999,919236,367633.08695879998,1286869.0869588,1991678.000000003,796538.35507740115,2788216.3550774041]
[null,12,"Asesor en Investigación",{"$f":"+D30","v":1085543},434144.79428189999,1519687.7942818999,2171086,868289.58856379997,3039375.5885637999,4704019.6666666744,1881294.108554903,6585313.7752215769]
[]
[null,"ESCALA GERENCIAL DE BÁSICO MÁS PLUSES"]
[null,null,null,"Montos semanales en colones",null,null,"Montos bisemanales en colones",null,null,"Montos mensuales promedio"]
[null,"Categoría","Puesto","Salario Contratación Semanal","Cargas Patronales","Salario semanal con Cargas Patronales","Salario Bisemanal","Cargas Patronales","Salario Bisemanal con Cargas Patronales","Salario Mensual","Cargas Patronales","Salario Mensual con Cargas Patronales"]
[null,null,"Subauditor interno"]
[null,1,"Subauditor interno",{"$f":"+'1'!F44","v":385850},{"$f":"+D48*0.3999333","v":154314.263805},{"$f":"+D48+E48","v":540164.263805},{"$f":"+D48*2","v":771700},{"$f":"+G48*0.3999333","v":308628.52760999999},{"$f":"+G48+H48","v":1080328.52761},{"$f":"+G48*2.16666666666667","v":1672016.6666666693},{"$f":"+J48*0.3999333","v":668695.14315500099},{"$f":"+J48+K48","v":2340711.8098216704}]
[null,2,"Auditor interno",{"$f":"+'1'!F45","v":488743},195464.60084189998,684207.60084189998,{"$f":"+D49*2","v":977486},390929.20168379997,1368415.2016838,{"$f":"+G49*2.16666666666667","v":2117886.3333333367},847013.27031490137,2964899.6036482379]
[null,3,"Subgerente - Intendente",{"$f":"+'1'!F46","v":618002},247159.57926659999,865161.57926659996,1236004,494319.15853319998,1730323.1585331999,2678008.6666666707,1071024.8434886015,3749033.5101552722]
[null,4,"Gerente - Superintendente",{"$f":"+'1'!F47","v":635414},254123.2178862,889537.21788619994,1270828,508246.4357724,1779074.4357723999,2753460.6666666712,1101200.6108402018,3854661.277506873]
[null,{"$f":"+B10","v":"Montos congelados con base en el artículo 4 del acta de la sesión de la Junta Directiva del BCCR 5676-2015, celebrada el 21 de enero del 2015, mantienen dicha condición con base en el artículo 4 del acta de la sesión 5714-2016, celebrada el 9 de marzo del 2016."}]
[null,"ESCALA REGULAR DE BÁSICO MÁS PLUSES"]
[null,null,null,"Montos semanales en colones",null,null,"Montos bisemanales en colones",null,null,"Montos mensuales promedio"]
[null,"Categoría","Puesto","Salario Contratación Semanal","Cargas Patronales","Salario semanal con Cargas Patronales","Salario Bisemanal","Cargas Patronales","Salario Bisemanal con Cargas Patronales","Salario Mensual","Cargas Patronales","Salario Mensual con Cargas Patronales"]
[null,4,"Asistente Servicios Generales 1",{"$f":"+'1'!F51","v":45473},{"$f":"+D56*0.3999333","v":18186.166950899998},{"$f":"+D56+E56","v":63659.166950899998},{"$f":"+D56*2","v":90946},{"$f":"+G56*0.3999333","v":36372.333901799997},{"$f":"+G56+H56","v":127318.3339018},{"$f":"+G56*2.16666666666667","v":197049.66666666698},{"$f":"+J56*0.3999333","v":78806.723453900122},{"$f":"+J56+K56","v":275856.39012056711}]
[null,5,"Asistente Servicios Generales 1",{"$f":"+'1'!F52","v":48444},19374.3687852,67818.3687852,96888,38748.737570400001,135636.7375704,209924.00000000032,83955.598069200132,293879.59806920047]
[null,6,"Asistente Servicios Generales 2 ",{"$f":"+'1'!F53","v":51630},20648.556279,72278.556278999997,103260,41297.112558000001,144557.11255799999,223730.00000000035,89477.077209000141,313207.07720900048]
[null,7,"Asistente Servicios Generales 2 ",{"$f":"+'1'!F54","v":55035},22010.329165499999,77045.329165500007,110070,44020.658330999999,154090.65833100001,238485.00000000038,95378.093050500145,333863.09305050049]
[null,8,"Asistente Servicios Institucionales 1",{"$f":"+'1'!F55","v":58678},23467.286177400001,82145.286177400005,117356,46934.572354800002,164290.57235480001,254271.33333333372,101691.57343540015,355962.90676873387]
[null,9,"Asistente Servicios Institucionales 2",{"$f":"+'1'!F56","v":62573},25025.026380899999,87598.026380900003,125146,50050.052761799998,175196.05276180001,271149.66666666709,108441.78098390017,379591.44765056728]
[null,10,"Técnico Servicios Institucionales 1",{"$f":"+'1'!F57","v":66742},26692.348308599998,93434.348308599991,133484,53384.696617199996,186868.69661719998,289215.33333333378,115666.84267060018,404882.17600393394]
[null,12,"Técnico Servicios Institucionales 2",{"$f":"+'1'!F58","v":82075},32824.525597499996,{"$f":"+D63+E63","v":114899.5255975},164150,65649.051194999993,229799.05119500001,355658.3333333339,142239.61092250023,497897.9442558341]
[null,19,"Profesional Gestión Bancaria (PGB) 1 / Profesional en Enfermerería",{"$f":"+'1'!F59","v":120192},48068.7831936,168260.78319360001,240384,96137.5663872,336521.56638720003,520832.00000000081,208298.06050560033,729130.06050560111]
[null,21,"Profesional Gestión Informática (PGI) 1 / PGB 2 / Supervisor 1",{"$f":"+'1'!F60","v":137171},54859.250694299997,192030.25069429999,274342,109718.50138859999,384060.50138859998,594407.66666666756,237723.41967530036,832131.08634196792]
[null,22,"Supervisor 2 /Supervisor TI /PGB 3 \n/PGI 2",{"$f":"+'1'!F61","v":152428},60961.033052400002,213389.03305239999,304856,121922.0661048,426778.06610479997,660521.33333333442,264164.47656040045,924685.80989373487]
[null,25,"Ejecutivo de área /Supervisor Principal /PGB 4 /PGI 3",{"$f":"+'1'!F62","v":189843},75924.537471899996,265767.5374719,379686,151849.07494379999,531535.07494379999,822653.00000000128,329006.32904490049,1151659.3290449018]
[null,31,"Director de Departamento /Líder de Supervisión /Director de Despacho /Analista Experto",{"$f":"+'1'!F63","v":270012},107986.7901996,377998.79019959999,540024,215973.5803992,755997.58039919997,1170052.0000000019,467942.75753160071,1637994.7575316026]
[null,32,"Profesional Gestión Bancaria 5",{"$f":"+'1'!F64","v":293635},117434.4145455,411069.41454550001,587270,234868.82909099999,822138.82909100002,1272418.3333333354,508882.4630305008,1781300.7963638362]
[null,36,"Director de División /Director de Supervisión /Director en Investigación\n/Profesional en Investigación",{"$f":"+'1'!F65","v":391563},156599.08274789999,548162.08274789993,783126,313198.16549579997,1096324.1654957999,1696773.0000000026,678596.02524090104,2375369.0252409037]
[null,37,"Economista en Jefe",{"$f":"+'1'!F66","v":459815},183895.33033949998,643710.33033949998,919630,367790.66067899996,1287420.660679,1992531.6666666698,796879.7648045012,2789411.4314711709]
[null,{"$f":"+B33","v":"Escalas se mantienen sin ajustes con base en el artículo 4 del acta de la sesión 5714-2016, celebrada el 9 de marzo del 2016"}]

{"sheet":"EG","index":2,"n_rows":12,"n_cols":8,"rows_kept":12,"cut":false,"hidden":false,"merged":[[11,1,11,5]]}
[null,null,null,null,null,null,null,">"]
[]
[]
[null,null,"ESCALA GERENCIAL  \n(Montos semanales)"]
[null,null,"Puesto","Categoría","Salario Único (Escala Global)","Salario base (Escala de Básico Más Pluses)"]
[null,null,"Presidente",5,{"$f":"+'1'!D8","v":1696950}]
[null,null,"Gerente - Superintendente",4,{"$f":"+'1'!D7","v":1603715},{"$f":"+'1'!D47","v":635414}]
[null,null,"Subgerente - Intendente",3,{"$f":"+'1'!D6","v":1181206},{"$f":"+'1'!D46","v":618002}]
[null,null,"Auditor interno",2,{"$f":"+'1'!D5","v":1122147},{"$f":"+'1'!D45","v":488743}]
[null,null,"Subauditor interno",1,{"$f":"+'1'!D4","v":885905},{"$f":"+'1'!D44","v":385850}]
[]
[null,{"$f":"+'1'!B9:H9","v":"Montos congelados con base en el artículo 4 del acta de la sesión de la Junta Directiva del BCCR 5676-2015, celebrada el 21 de enero del 2015, mantienen dicha condición con base en el artículo 4 del acta de la sesión 5714-2016, celebrada el 9 de marzo del 2016."}]

{"sheet":"Equivalencias","index":3,"n_rows":28,"n_cols":4,"rows_kept":28,"cut":false,"hidden":false,"merged":[[0,1,0,3],[1,1,1,3]]}
[null,{"$f":"+RIGHT('1'!B1,8)","v":"AÑO 2016"}]
[null,"TABLA DE EQUIVALENCIAS  ESCALA REGULAR"]
[]
[null,"Puesto","Categorías Escala Global","Categorías Básico Más Pluses"]
[null,"Economista en Jefe",13,37]
[null,"Director de División\nDirector de Supervisión\nDirector en Investigación\nProfesional en Investigación",12,36]
[null,"Profesional Gestión Bancaria 5",11,32]
[null,"Director de Departamento,\nLíder de Supervisión,\nDirector de Despacho, Analista Experto\nAsesor 5 (Servicios Especiales)",10,31]
[null,"Ejecutivo de Área\nSupervisor Principal\nProfesional Gestión Bancaria 4\nProfesional Gestión Auditoría Interna 4\nProfesional Gestión Informática 3\nAsesor 4 (Servicios Especiales)",9,25]
[null,"Profesional Gestión Bancaria 3\nProfesional Gestión Auditoría Interna 3\nProfesional Gestión Informática 2\nSupervisor 2\nSupervisor TI\nAsesor 3 (Servicios Especiales)",8,22]
[null,"Profesional Gestión Bancaria 2\nProfesional Gestión Informática 1\nSupervisor 1\nAsesor 2 (Servicios Especiales)",7,21]
[null,"Profesional Gestión Bancaria 1\nAsesor 1 (Servicios Especiales)",6,19]
[null,"Técnico Servicios Institucionales 2",5,12]
[null,"Técnico Servicios Institucionales 1",4,10]
[null,"Asistente Servicios Institucionales 2",3,9]
[null,"Asistente Servicios Institucionales 1",2,8]
[null,"Asistente Servicios Generales 2",2,"6 – 7"]
[null,"Asistente Servicios Generales 1",1," 4 – 5"]
[]
[]
[null,"TABLA DE EQUIVALENCIAS  ESCALA GERENCIAL"]
[null,"Puesto","Categorías Escala Global","Categorías Básico Más Pluses"]
[null,"Presidente",5,"--"]
[null,"Gerente - Superintendente",4,4]
[null,"Subgerente - Intendente",3,"3 *"]
[null,"Auditor interno",2,2]
[null,"Subauditor Interno","1 *",1]
[null,"* No hay funcionarios ubicados en dichas categorías"]

{"sheet":"Escala con puestos","index":4,"n_rows":21,"n_cols":10,"rows_kept":21,"cut":false,"hidden":false,"merged":[[20,1,20,9],[16,5,17,5],[18,3,19,3],[16,4,17,4],[1,1,2,1],[16,1,17,1],[16,3,17,3],[18,1,19,1],[18,4,19,4],[16,2,17,2],[1,6,1,9],[1,3,1,4]]}
[null,{"$f":"'1'!B1 & \" (Montos Semanales)\"","v":"ESCALAS SALARIALES VIGENTES BANCO CENTRAL Y ENTES DESCONCENTRADOS \nAÑO 2016 (Montos Semanales)"}]
[null,"CLASE DE PUESTO",null,"ESCALA  REGULAR GLOBAL",null,null,"ESCALA REGULAR DE BÁSICO MÁS  PLUSES"]
[null,null,null,"CAT","SALARIO ÚNICO",null,"CAT","SALARIO BASE ","COSTO DE VIDA","TOTAL"]
[null,"Economista en Jefe",null,13,{"$f":"+'1'!D30","v":1305192},null,37,{"$f":"+'1'!D66","v":456817},{"$f":"+'1'!$E$66","v":2998},{"$f":"+H4+I4","v":459815}]
[null,"Director de División - Director de Supervisión - Director en Investigación - PI",null,12,{"$f":"+'1'!D28","v":1085543},null,36,{"$f":"+'1'!D65","v":388565},{"$f":"+'1'!$E$66","v":2998},{"$f":"+H5+I5","v":391563}]
[null,"Profesional en Gestión Bancaria 5",null,11,{"$f":"+'1'!D27","v":774247},null,32,{"$f":"+'1'!D64","v":290637},{"$f":"+'1'!$E$66","v":2998},{"$f":"+H6+I6","v":293635}]
[null,"Director de Departamento - Líder de Supervisión - Director Despacho - Analista Experto - Asesor 5",null,10,{"$f":"+'1'!D25","v":771089},null,31,{"$f":"+'1'!D63","v":267014},{"$f":"+'1'!$E$66","v":2998},270012]
[null,"Ejecutivo de Área - Supervisor Principal",null,9,{"$f":"+E9","v":459618},null,25,{"$f":"+'1'!D62","v":186845},{"$f":"+'1'!$E$66","v":2998},189843]
[null,"P.G.B. 4 - P.G.A.I. 4 -  P.G.I. 3 - Asesor 4",null,9,{"$f":"+'1'!D23","v":459618},null,25,{"$f":"+H8","v":186845},{"$f":"+'1'!$E$66","v":2998},189843]
[null,"P.G.B. 3 - P.G.A.I. 3 - P.G.I. 2 - Supervisor 2 - Supervisor TI - Asesor 3",null,8,{"$f":"+'1'!D21","v":372494},null,22,{"$f":"+'1'!D61","v":149430},{"$f":"+'1'!$E$66","v":2998},152428]
[null,"P.G.B. 2 - P.G.I.1 - Supervisor 1 - Asesor 2",null,7,{"$f":"+'1'!D19","v":303933},null,21,{"$f":"+'1'!D60","v":134173},{"$f":"+'1'!$E$66","v":2998},137171]
[null,"P.G.B. 1 - Asesor 1",null,6,{"$f":"+'1'!D18","v":245109},null,19,{"$f":"+'1'!D59","v":117194},{"$f":"+'1'!$E$66","v":2998},120192]
[null,"Técnico Servicios Institucionales 2",null,5,{"$f":"+'1'!D17","v":173091},null,12,{"$f":"+'1'!D58","v":79077},{"$f":"+'1'!$E$66","v":2998},82075]
[null,"Técnico Servicios Institucionales 1",null,4,{"$f":"+'1'!D16","v":161124},null,10,{"$f":"+'1'!D57","v":63744},{"$f":"+'1'!$E$66","v":2998},66742]
[null,"Asistente Servicios Institucionales 2",null,3,{"$f":"+'1'!D15","v":123977},null,9,{"$f":"+'1'!D56","v":59575},{"$f":"+'1'!$E$66","v":2998},62573]
[null,"Asistente Servicios Institucionales 1",null,2,{"$f":"+E17","v":114734},null,8,{"$f":"+'1'!D55","v":55680},{"$f":"+'1'!$E$66","v":2998},58678]
[null,"Asistente Servicios Generales 2",null,2,{"$f":"+'1'!D14","v":114734},null,7,{"$f":"+'1'!D54","v":52037},{"$f":"+'1'!$E$66","v":2998},55035]
[null,null,null,null,null,null,6,{"$f":"+'1'!D53","v":48632},{"$f":"+'1'!$E$66","v":2998},51630]
[null,"Asistente Servicios Generales 1",null,1,{"$f":"+'1'!D13","v":93647},null,5,{"$f":"+'1'!D52","v":45446},{"$f":"+'1'!$E$66","v":2998},48444]
[null,null,null,null,null,null,4,{"$f":"+'1'!D51","v":42475},{"$f":"+'1'!$E$66","v":2998},45473]
[null,{"$f":"+'1CONCARGAS'!B33:J33","v":"Escalas se mantienen sin ajustes con base en el artículo 4 del acta de la sesión 5714-2016, celebrada el 9 de marzo del 2016"}]

{"sheet":"Escala con puestos (2)","index":5,"n_rows":26,"n_cols":10,"rows_kept":26,"cut":false,"hidden":true,"merged":[[23,1,24,1],[23,3,24,3],[23,4,24,4],[25,1,25,9],[1,1,2,1],[1,3,1,4],[1,6,1,9],[21,1,22,1],[21,2,22,2],[21,3,22,3],[21,4,22,4],[21,5,22,5]]}
[null,{"$f":"'1'!B1 & \" (Montos Semanales)\"","v":"ESCALAS SALARIALES VIGENTES BANCO CENTRAL Y ENTES DESCONCENTRADOS \nAÑO 2016 (Montos Semanales)"}]
[null,"CLASE DE PUESTO",null,"ESCALA  REGULAR GLOBAL",null,null,"ESCALA REGULAR DE BÁSICO MÁS  PLUSES"]
[null,null,null,"CAT","SALARIO ÚNICO",null,"CAT","SALARIO BASE ","COSTO DE VIDA","TOTAL"]
[null,"Economista en Jefe",null,13,{"$f":"+'1'!D30","v":1305192},null,37,{"$f":"+'1'!D66","v":456817},{"$f":"+'1'!$E$66","v":2998},{"$f":"+H4+I4","v":459815}]
[null,"Director de División - Director de Supervisión - Director en Investigación - PI",null,12,{"$f":"+'1'!D28","v":1085543},null,36,{"$f":"+'1'!D65","v":388565},{"$f":"+'1'!$E$66","v":2998},{"$f":"+H5+I5","v":391563}]
[null,"Director de División  (con prohibición)",null,12]
[null,"Profesional en Gestión Bancaria 5",null,11,{"$f":"+'1'!D27","v":774247},null,32,{"$f":"+'1'!D64","v":290637},{"$f":"+'1'!$E$66","v":2998},{"$f":"+H7+I7","v":293635}]
[null,"Director de Departamento - Líder de Supervisión - Director Despacho - Analista Experto - Asesor 5",null,10,{"$f":"+'1'!D25","v":771089},null,31,{"$f":"+'1'!D63","v":267014},{"$f":"+'1'!$E$66","v":2998},270012]
[null,"Director de Departamento  (con prohibición)",null,10]
[null,"Ejecutivo de Área - Supervisor Principal, P.G.B. 4 -  P.G.I. 3 - Asesor 4",null,9,{"$f":"+'1'!D23","v":459618},null,25,{"$f":"+'1'!D62","v":186845},{"$f":"+'1'!$E$66","v":2998},189843]
[null,"P.G.A.I. 4 (con prohibición)",null,9,{"$f":"+'1'!D23","v":459618}]
[null,"P.G.B. 3 - P.G.A.I. 3 - P.G.I. 2 - Supervisor 2 - Supervisor TI - Asesor 3",null,8,{"$f":"+'1'!D21","v":372494},null,22,{"$f":"+'1'!D61","v":149430},{"$f":"+'1'!$E$66","v":2998},152428]
[null,"P.G.B. 3  (con prohibición)",null,8,null,null,22]
[null,"Médico (1/2 tiempo)",null,8,null,null,22]
[null,"P.G.B. 2 - P.G.I.1 - Supervisor 1 - Asesor 2",null,7,{"$f":"+'1'!D19","v":303933},null,21,{"$f":"+'1'!D60","v":134173},{"$f":"+'1'!$E$66","v":2998},137171]
[null,"P.G.B. 1 - Asesor 1",null,6,{"$f":"+'1'!D18","v":245109},null,19,{"$f":"+'1'!D59","v":117194},{"$f":"+'1'!$E$66","v":2998},120192]
[null,"Enfermera profesional (Medio tiempo)",null,6]
[null,"Técnico Servicios Institucionales 2",null,5,{"$f":"+'1'!D17","v":173091},null,12,{"$f":"+'1'!D58","v":79077},{"$f":"+'1'!$E$66","v":2998},82075]
[null,"Técnico Servicios Institucionales 1",null,4,{"$f":"+'1'!D16","v":161124},null,10,{"$f":"+'1'!D57","v":63744},{"$f":"+'1'!$E$66","v":2998},66742]
[null,"Asistente Servicios Institucionales 2",null,3,{"$f":"+'1'!D15","v":123977},null,9,{"$f":"+'1'!D56","v":59575},{"$f":"+'1'!$E$66","v":2998},62573]
[null,"Asistente Servicios Institucionales 1",null,2,{"$f":"+E22","v":114734},null,8,{"$f":"+'1'!D55","v":55680},{"$f":"+'1'!$E$66","v":2998},58678]
[null,"Asistente Servicios Generales 2",null,2,{"$f":"+'1'!D14","v":114734},null,7,{"$f":"+'1'!D54","v":52037},{"$f":"+'1'!$E$66","v":2998},55035]
[null,null,null,null,null,null,6,{"$f":"+'1'!D53","v":48632},{"$f":"+'1'!$E$66","v":2998},51630]
[null,"Asistente Servicios Generales 1",null,1,{"$f":"+'1'!D13","v":93647},null,5,{"$f":"+'1'!D52","v":45446},{"$f":"+'1'!$E$66","v":2998},48444]
[null,null,null,null,null,null,4,{"$f":"+'1'!D51","v":42475},{"$f":"+'1'!$E$66","v":2998},45473]
[null,{"$f":"+'1'!B67:G67","v":"Rigen a partir del 1° de enero 2015, según acuerdos de Junta Directiva de la sesión 5675-2015, artículo 8 del 14 de enero del 2015. "}]

{"sheet":"2","index":6,"n_rows":18,"n_cols":5,"rows_kept":18,"cut":false,"hidden":true,"merged":[]}
["CAT","Global","Prohibición","Mer+Proh","PUESTO"]
[1,{"$f":"+#REF!","v":{"$error":"#REF!"}},{"$f":"+#REF!","v":{"$error":"#REF!"}},{"$f":"+B2+C2","v":{"$error":"#REF!"}},"Subauditores internos"]
[2,{"$f":"+#REF!","v":{"$error":"#REF!"}},{"$f":"+#REF!","v":{"$error":"#REF!"}},{"$error":"#REF!"},"Auditor Interno"]
[3,{"$f":"+#REF!","v":{"$error":"#REF!"}},{"$f":"+#REF!","v":{"$error":"#REF!"}},{"$error":"#REF!"}]
[4,{"$f":"+#REF!","v":{"$error":"#REF!"}},{"$f":"+#REF!","v":{"$error":"#REF!"}},{"$error":"#REF!"}]
[5,{"$f":"+#REF!","v":{"$error":"#REF!"}},{"$f":"+#REF!","v":{"$error":"#REF!"}},{"$error":"#REF!"}]
["01",{"$f":"+#REF!","v":{"$error":"#REF!"}},0,{"$error":"#REF!"}]
["02",{"$f":"+#REF!","v":{"$error":"#REF!"}},0,{"$error":"#REF!"}]
["03",{"$f":"+#REF!","v":{"$error":"#REF!"}},0,{"$error":"#REF!"}]
["04",{"$f":"+#REF!","v":{"$error":"#REF!"}},0,{"$error":"#REF!"}]
["05",{"$f":"+#REF!","v":{"$error":"#REF!"}},0,{"$error":"#REF!"}]
["06",{"$f":"+#REF!","v":{"$error":"#REF!"}},0,{"$error":"#REF!"}]
["07",{"$f":"+#REF!","v":{"$error":"#REF!"}},0,{"$error":"#REF!"}]
["08",{"$f":"+#REF!","v":{"$error":"#REF!"}},{"$f":"+#REF!","v":{"$error":"#REF!"}},{"$f":"+B14+C14","v":{"$error":"#REF!"}}]
["09",{"$f":"+#REF!","v":{"$error":"#REF!"}},{"$f":"+#REF!","v":{"$error":"#REF!"}},{"$f":"+B15+C15","v":{"$error":"#REF!"}}]
["10",{"$f":"+#REF!","v":{"$error":"#REF!"}},{"$f":"+#REF!","v":{"$error":"#REF!"}},{"$f":"+B16+C16","v":{"$error":"#REF!"}}]
["11",{"$f":"+#REF!","v":{"$error":"#REF!"}},0,{"$f":"+B17+C17","v":{"$error":"#REF!"}}]
["12",{"$f":"+#REF!","v":{"$error":"#REF!"}},{"$f":"+#REF!*0.65","v":{"$error":"#REF!"}},{"$f":"+B18+C18","v":{"$error":"#REF!"}}]