{"text_format":"1","workbook":"xlsx","n_sheets":8,"sheets":["1","1CONCARGAS","EG","Equivalencias","Escala con puestos","Homologación","Escala con puestos (2)","2"],"not_rendered":{"charts":0,"images":4,"macros":0,"external_links":2,"defined_names":10,"comments":0,"pivot_tables":0},"unopened":[],"bounds":{"document_bytes":16777216,"sheet_cells":100000,"rows_first":2000,"rows_last":500,"rows_between":2000,"halvings":0,"cell_chars":16384,"cell_head_chars":4096},"cells_cut":0,"cells_raw":0,"read":"whole","date_system":"1900"}

{"sheet":"1","index":0,"n_rows":68,"n_cols":8,"rows_kept":68,"cut":false,"hidden":false,"merged":[[67,1,67,7],[0,1,0,7],[1,1,1,7],[8,1,8,7],[48,1,48,6],[31,1,31,7]]}
[null,"ESCALAS SALARIALES VIGENTES BANCO CENTRAL Y ENTES DESCONCENTRADOS \nAÑO 2017"]
[null,"ESCALA GERENCIAL GLOBAL"]
[null,"Categoría","Puesto","Salario Único Semanal","Prohibición Semanal","Salario Contratación Semanal","Salario Bisemanal","Salario Mensual"]
[null,1,"Subauditor interno",885905,330443,{"$f":"+D4+E4","v":1216348},{"$f":"+F4*2","v":2432696},{"$f":"+G4*2.16666666666667","v":5270841.3333333414}]
[null,2,"Auditor interno",1122147,418561,{"$f":"+D5+E5","v":1540708},{"$f":"+F5*2","v":3081416},{"$f":"+G5*2.16666666666667","v":6676401.3333333442}]
[null,3,"Subgerente - Intendente",1181206,440590,{"$f":"+D6+E6","v":1621796},{"$f":"+F6*2","v":3243592},{"$f":"+G6*2.16666666666667","v":7027782.6666666782}]
[null,4,"Gerente - Superintendente",1603715,598186,{"$f":"+D7+E7","v":2201901},{"$f":"+F7*2","v":4403802},{"$f":"+G7*2.16666666666667","v":9541571.0000000149}]
[null,5,"Presidente",1696950,632962.35,{"$f":"+D8+E8","v":2329912.35},{"$f":"+F8*2","v":4659824.7},{"$f":"+G8*2.16666666666667","v":10096286.850000016}]
[null,{"$f":"+'1CONCARGAS'!B10:L10","v":"Montos congelados con base en el artículo 4 del acta de la sesión de la Junta Directiva del BCCR 5676-2015, celebrada el 21 de enero del 2015, mantienen dicha condición con base en el artículo 4 del acta de la sesión 5714-2016, celebrada el 9 de marzo del 2016 y se mantiene en dicha condición según la sesión 5754-2017, artículo 8 del 25 de enero del 2017."}]
[]
[null,"ESCALA REGULAR GLOBAL"]
[null,"Categoría","Puesto","Salario Único Semanal","Prohibición Semanal","Salario Contratación Semanal","Salario Bisemanal","Salario Mensual"]
[null,1,"Asistente Servicios Generales 1",93647,0,{"$f":"+SUM(D13:E13)","v":93647},{"$f":"+F13*2","v":187294},{"$f":"+G13*2.16666666666667","v":405803.66666666733}]
[null,2,"Asistente Servicios Generales 2 /Asistente Servicios Institucionales 1",115264.07108000001,0,115264.07108000001,230528.14216000002,499477.64134666749]
[null,3,"Asistente Servicios Institucionales 2",140558.90264473957,0,140558.90264473957,281117.80528947915,609088.57812720572]
[null,4,"Técnico Servicios Institucionales 1",161868.39288,0,161868.39288,323736.78576,701429.70248000114]
[null,5,"Técnico Servicios Institucionales 2",173890.68042000002,0,173890.68042000002,347781.36084000004,753526.28182000131]
[null,6,"Profesional Gestión Bancaria (PGB) 1 / Profesional en Enfermería",246241.40358000001,0,246241.40358000001,492482.80716000003,1067046.0821800018]
[null,6,"Profesional Gestión Bancaria (PGB) 1 con prohibición",246241.40358000001,{"$f":"+F60*0.65","v":78485.55},324726.95358000003,{"$f":"+F19*2","v":649453.90716000006},{"$f":"+G19*2.16666666666667","v":1407150.1321800023}]
[null,7,"Profesional Gestión Informática (PGI) 1 / PGB 2 / Supervisor 1",308378.04618025402,0,308378.04618025402,616756.09236050805,1336304.866781103]
[null,"07 AI","Profesional Gestión Auditoría Interna 2",308378.04618025402,{"$f":"+F61*0.65","v":89573.25},{"$f":"+SUM(D21:E21)","v":397951.29618025402},{"$f":"+F21*2","v":795902.59236050805},{"$f":"+G21*2.16666666666667","v":1724455.6167811034}]
[null,8,"Supervisor 2 /Supervisor TI /PGB 3 \n/PGI 2",383249.36729723448,0,383249.36729723448,766498.73459446896,1660747.2582880186]
[null,"08 AI","Profesional Gestión Auditoría Interna 3",383249.36729723448,{"$f":"+F62*0.65","v":99535.8},{"$f":"+SUM(D23:E23)","v":482785.16729723447},{"$f":"+F23*2","v":965570.33459446894},{"$f":"+G23*2.16666666666667","v":2092069.0582880194}]
[null,9,"Ejecutivo de área /Supervisor Principal /PGB 4 /PGI 3",472895.39028274093,0,472895.39028274093,945790.78056548187,2049213.3578918807]
[null,"09 AI","Profesional Gestión Auditoría Interna 4",472895.39028274093,{"$f":"+F63*0.65","v":123968},{"$f":"+SUM(D25:E25)","v":596863.39028274093},{"$f":"+F25*2","v":1193726.7805654819},{"$f":"+G25*2.16666666666667","v":2586408.0245585479}]
[null,10,"Director de Departamento /Líder de Supervisión /Director de Despacho /Analista Experto",868878.15355220425,0,868878.15355220425,1737756.3071044085,3765138.665392891]
[null,"10 AI","Director de Departamento con prohibición",868878.15355220425,{"$f":"+F64*0.65","v":176319},{"$f":"+SUM(D27:E27)","v":1045197.1535522043},{"$f":"+F27*2","v":2090394.3071044085},{"$f":"+G27*2.16666666666667","v":4529187.6653928924}]
[null,11,"Profesional Gestión Bancaria 5",804754.57153846242,0,804754.57153846242,1609509.1430769248,3487269.8100000094]
[null,12,"Director de División /Director de Supervisión /Director en Investigación\n/Profesional en Investigación",1280367.8200429294,0,1280367.8200429294,2560735.6400858588,5548260.5535193691]
[null,"12 AI","Director de División con prohibición",1280367.8200429294,{"$f":"+F66*0.65","v":255691.80000000002},{"$f":"+SUM(D30:E30)","v":1536059.6200429294},{"$f":"+F30*2","v":3072119.2400858589},{"$f":"+G30*2.16666666666667","v":6656258.3535193717}]
[null,13,"Economista en Jefe",1508879.640340386,0,{"$f":"+SUM(D31:E31)","v":1508879.640340386},{"$f":"+F31*2","v":3017759.2806807719},{"$f":"+G31*2.16666666666667","v":6538478.4414750161}]
[null,{"$f":"+B68","v":"Rigen a partir del 1° de enero 2017, según acuerdo de Junta Directiva de la sesión 5754-2017, artículo 8 del 25 de enero del 2017."}]
[null,"ESCALA SERVICIOS ESPECIALES"]
[null,"Categoría","Puesto","Salario Único Semanal","Costo de Vida Semanal","Salario Contratación Semanal","Salario Bisemanal","Salario Mensual"]
[null,5,"Asesor Técnico",{"$f":"+D17","v":173890.68042000002},0,{"$f":"+SUM(D35:E35)","v":173890.68042000002},{"$f":"+F35*2","v":347781.36084000004},{"$f":"+G35*2.16666666666667","v":753526.28182000131}]
[null,6,"Asesor 1",{"$f":"+D18","v":246241.40358000001},0,246241.40358000001,492482.80716000003,1067046.0821800018]
[null,7,"Asesor 2",{"$f":"+D20","v":308378.04618025402},0,308378.04618025402,616756.09236050805,1336304.866781103]
[null,8,"Asesor 3",{"$f":"+D22","v":383249.36729723448},0,383249.36729723448,766498.73459446896,1660747.2582880186]
[null,9,"Asesor 4",{"$f":"+D24","v":472895.39028274093},0,472895.39028274093,945790.78056548187,2049213.3578918807]
[null,12,"Asesor en Investigación",{"$f":"+D30","v":1280367.8200429294},0,1280367.8200429294,2560735.6400858588,5548260.5535193691]
[]
[null,"ESCALA GERENCIAL DE BÁSICO MÁS PLUSES"]
[null,"Categoría","Puesto","Salario Base Semanal","Costo de Vida Semanal","Salario Contratación Semanal","Salario Bisemanal","Salario Mensual"]
[null,null,"Subauditor interno",{"$f":"+D45*1.15","v":443727.49999999994}]
[null,1,"Subauditor interno",385850,0,{"$f":"+D45+E45","v":385850},{"$f":"+F45*2","v":771700},{"$f":"+G45*2.16666666666667","v":1672016.6666666693}]
[null,2,"Auditor interno",488743,0,{"$f":"+D46+E46","v":488743},{"$f":"+F46*2","v":977486},{"$f":"+G46*2.16666666666667","v":2117886.3333333367}]
[null,3,"Subgerente - Intendente",618002,0,{"$f":"+D47+E47","v":618002},{"$f":"+F47*2","v":1236004},{"$f":"+G47*2.16666666666667","v":2678008.6666666707}]
[null,4,"Gerente - Superintendente",635414,0,{"$f":"+D48+E48","v":635414},{"$f":"+F48*2","v":1270828},{"$f":"+G48*2.16666666666667","v":2753460.6666666712}]
[null,{"$f":"+B9","v":"Montos congelados con base en el artículo 4 del acta de la sesión de la Junta Directiva del BCCR 5676-2015, celebrada el 21 de enero del 2015, mantienen dicha condición con base en el artículo 4 del acta de la sesión 5714-2016, celebrada el 9 de marzo del 2016 y se mantiene en dicha condición según la sesión 5754-2017, artículo 8 del 25 de enero del 2017."}]
[null,"ESCALA REGULAR DE BÁSICO MÁS PLUSES"]
[null,"Categoría","Puesto","Salario Base Semanal","Costo de Vida Semanal","Salario Contratación Semanal","Salario Bisemanal","Salario Mensual"]
[null,4,"Asistente Servicios Generales 1",42671,3012,{"$f":"+D52+E52","v":45683},{"$f":"+F52*2","v":91366},{"$f":"+G52*2.16666666666667","v":197959.66666666698}]
[null,5,"Asistente Servicios Generales 1",45656,3012,48668,97336,210894.66666666701]
[null,6,"Asistente Servicios Generales 2 ",48857,3012,51869,103738,224765.66666666701]
[null,7,"Asistente Servicios Generales 2 ",52277,3012,55289,110578,239585.66666666704]
[null,8,"Asistente Servicios Institucionales 1",55937,3012,58949,117898,255445.66666666706]
[null,9,"Asistente Servicios Institucionales 2",59850,3012,62862,125724,272402.00000000041]
[null,10,"Técnico Servicios Institucionales 1",64038,3012,67050,134100,290550.00000000047]
[null,12,"Técnico Servicios Institucionales 2",79442,3012,82454,164908,357300.66666666721]
[null,19,"Profesional Gestión Bancaria (PGB) 1 / Profesional en Enfermerería",117735,3012,120747,241494,523237.00000000081]
[null,21,"Profesional Gestión Informática (PGI) 1 / PGB 2 / Supervisor 1",134793,3012,137805,275610,597155.00000000093]
[null,22,"Supervisor 2 /Supervisor TI /PGB 3 \n/PGI 2",150120,3012,153132,306264,663572.00000000105]
[null,25,"Ejecutivo de área /Supervisor Principal /PGB 4 /PGI 3",187708,3012,190720,381440,826453.33333333465]
[null,31,"Director de Departamento /Líder de Supervisión /Director de Despacho /Analista Experto",268248,3012,271260,542520,1175460.0000000019]
[null,32,"Profesional Gestión Bancaria 5",291980,3012,{"$f":"+D65+E65","v":294992},{"$f":"+F65*2","v":589984},{"$f":"+G65*2.16666666666667","v":1278298.6666666686}]
[null,36,"Director de División /Director de Supervisión /Director en Investigación\n/Profesional en Investigación",390360,3012,393372,786744,1704612.0000000028]
[null,37,"Economista en Jefe",458927,3012,461939,923878,2001735.6666666698]
[null,"Rigen a partir del 1° de enero 2017, según acuerdo de Junta Directiva de la sesión 5754-2017, artículo 8 del 25 de enero del 2017."]

{"sheet":"1CONCARGAS","index":1,"n_rows":72,"n_cols":12,"rows_kept":72,"cut":false,"hidden":false,"merged":[[32,1,32,9],[51,1,51,11],[71,1,71,9],[9,1,9,11],[2,3,2,5],[2,6,2,8],[2,9,2,11],[53,3,53,5]]}
[null,{"$f":"+'1'!B1:H1","v":"ESCALAS SALARIALES VIGENTES BANCO CENTRAL Y ENTES DESCONCENTRADOS \nAÑO 2017"}]
[null,"ESCALA GERENCIAL GLOBAL"]
[null,null,null,"Montos semanales en colones",null,null,"Montos bisemanales en colones",null,null,"Montos mensuales promedio"]
[null,"Categoría","Puesto","Salario Contratación Semanal","Cargas Patronales","Salario semanal con Cargas Patronales","Salario Bisemanal","Cargas Patronales","Salario Bisemanal con Cargas Patronales","Salario Mensual","Cargas Patronales","Salario Mensual con Cargas Patronales"]
[null,1,"Subauditor interno",{"$f":"+'1'!F4","v":1216348},{"$f":"+D5*0.3999333","v":486458.06958840002},{"$f":"+D5+E5","v":1702806.0695884},{"$f":"+D5*2","v":2432696},{"$f":"+G5*0.3999333","v":972916.13917680003},{"$f":"+G5+H5","v":3405612.1391767999},{"$f":"+G5*2.16666666666667","v":5270841.3333333414},{"$f":"+J5*0.3999333","v":2107984.9682164034},{"$f":"+J5+K5","v":7378826.3015497448}]
[null,2,"Auditor interno",{"$f":"+'1'!F5","v":1540708},{"$f":"+D6*0.3999333","v":616180.43477639998},{"$f":"+D6+E6","v":2156888.4347764002},{"$f":"+D6*2","v":3081416},{"$f":"+G6*0.3999333","v":1232360.8695528},{"$f":"+G6+H6","v":4313776.8695528004},{"$f":"+G6*2.16666666666667","v":6676401.3333333442},{"$f":"+J6*0.3999333","v":2670115.2173644044},{"$f":"+J6+K6","v":9346516.5506977476}]
[null,3,"Subgerente - Intendente",{"$f":"+'1'!F6","v":1621796},648610.22620679997,2270406.2262068,3243592,1297220.4524135999,4540812.4524135999,7027782.6666666782,2810644.3135628044,9838426.9802294821]
[null,4,"Gerente - Superintendente",{"$f":"+'1'!F7","v":2201901},880613.53320329997,3082514.5332033001,4403802,1761227.0664065999,6165029.0664066002,9541571.0000000149,3815991.9772143057,13357562.977214321]
[null,5,"Presidente",{"$f":"+'1'!F8","v":2329912.35},931809.53484625497,3261721.8848462552,4659824.7,1863619.0696925099,6523443.7696925104,10096286.850000016,4037841.3176671113,14134128.167667128]
[null,"Montos congelados con base en el artículo 4 del acta de la sesión de la Junta Directiva del BCCR 5676-2015, celebrada el 21 de enero del 2015, mantienen dicha condición con base en el artículo 4 del acta de la sesión 5714-2016, celebrada el 9 de marzo del 2016 y se mantiene en dicha condición según la sesión 5754-2017, artículo 8 del 25 de enero del 2017."]
[]
[null,"ESCALA REGULAR GLOBAL"]
[null,null,null,"Montos semanales en colones",null,null,"Montos bisemanales en colones",null,null,"Montos mensuales promedio"]
[null,"Categoría","Puesto","Salario Contratación Semanal","Cargas Patronales","Salario semanal con Cargas Patronales","Salario Bisemanal","Cargas Patronales","Salario Bisemanal con Cargas Patronales","Salario Mensual","Cargas Patronales","Salario Mensual con Cargas Patronales"]
[null,1,"Asistente Servicios Generales 1",{"$f":"+'1'!F13","v":93647},{"$f":"+D15*0.3999333","v":37452.553745099998},{"$f":"+E15+D15","v":131099.55374509998},{"$f":"+D15*2","v":187294},{"$f":"+G15*0.3999333","v":74905.107490199996},{"$f":"+H15+G15","v":262199.10749019997},{"$f":"+G15*2.16666666666667","v":405803.66666666733},{"$f":"+J15*0.3999333","v":162294.39956210027},{"$f":"+K15+J15","v":568098.06622876762}]
[null,2,"Asistente Servicios Generales 2 /Asistente Servicios Institucionales 1",{"$f":"+'1'!F14","v":115264.07108000001},{"$f":"+D16*0.3999333","v":46097.940318458968},{"$f":"+E16+D16","v":161362.01139845897},{"$f":"+D16*2","v":230528.14216000002},{"$f":"+G16*0.3999333","v":92195.880636917936},{"$f":"+H16+G16","v":322724.02279691794},{"$f":"+G16*2.16666666666667","v":499477.64134666749},{"$f":"+J16*0.3999333","v":199757.74137998917},{"$f":"+K16+J16","v":699235.38272665662}]
[null,3,"Asistente Servicios Institucionales 2",{"$f":"+'1'!F15","v":140558.90264473957},56214.185779089421,196773.088423829,281117.80528947915,112428.37155817884,393546.176847658,609088.57812720572,243594.80504272119,852683.38316992694]
[null,4,"Técnico Servicios Institucionales 1",{"$f":"+'1'!F16","v":161868.39288},64736.560530194904,226604.9534101949,323736.78576,129473.12106038981,453209.90682038979,701429.70248000114,280525.09563084505,981954.7981108462]
[null,5,"Técnico Servicios Institucionales 2",{"$f":"+'1'!F17","v":173890.68042000002},69544.67365961599,243435.35407961602,347781.36084000004,139089.34731923198,486870.70815923205,753526.28182000131,301360.2525250031,1054886.5343450045]
[null,6,"Profesional Gestión Bancaria (PGB) 1 / Profesional en Enfermería",{"$f":"+'1'!F18","v":246241.40358000001},98480.137130381219,344721.54071038123,492482.80716000003,196960.27426076244,689443.08142076246,1067046.0821800018,426747.26089831931,1493793.3430783211]
[null,7,"Profesional Gestión Informática (PGI) 1 / PGB 2 / Supervisor 1",{"$f":"+'1'!F20","v":308378.04618025402},123330.64965642139,431708.69583667541,616756.09236050805,246661.29931284278,863417.39167335082,1336304.866781103,534432.81517782691,1870737.6819589299]
[null,"07 AI","Profesional Gestión Auditoría Interna 2",{"$f":"+'1'!F21","v":397951.29618025402},159153.97512064638,557105.27130090038,795902.59236050805,318307.95024129277,1114210.5426018008,1724455.6167811034,689667.22552280209,2414122.8423039056]
[null,8,"Supervisor 2 /Supervisor TI /PGB 3 \n/PGI 2",{"$f":"+'1'!F22","v":383249.36729723448},153274.18418609505,536523.5514833295,766498.73459446896,306548.3683721901,1073047.102966659,1660747.2582880186,664188.13147307967,2324935.3897610982]
[null,"08 AI","Profesional Gestión Auditoría Interna 3",{"$f":"+'1'!F23","v":482785.16729723447},193081.86514823505,675867.03244546952,965570.33459446894,386163.73029647011,1351734.064890939,2092069.0582880194,836688.08230901987,2928757.1405970394]
[null,9,"Ejecutivo de área /Supervisor Principal /PGB 4 /PGI 3",{"$f":"+'1'!F24","v":472895.39028274093},189126.61399056451,662022.00427330541,945790.78056548187,378253.22798112902,1324044.0085466108,2049213.3578918807,819548.66062578082,2868762.0185176614]
[null,"09 AI","Profesional Gestión Auditoría Interna 4",{"$f":"+'1'!F25","v":596863.39028274093},238705.54532496451,835568.9356077055,1193726.7805654819,477411.09064992901,1671137.871215411,2586408.0245585479,1034390.6964081811,3620798.7209667289]
[null,10,"Director de Departamento /Líder de Supervisión /Director de Despacho /Analista Experto",{"$f":"+'1'!F26","v":868878.15355220425},347493.30724803975,1216371.460800244,1737756.3071044085,694986.61449607951,2432742.921600488,3765138.665392891,1505804.3314081747,5270942.9968010653]
[null,"10 AI","Director de Departamento con prohibición",{"$f":"+'1'!F27","v":1045197.1535522043},418009.14677073975,1463206.3003229441,2090394.3071044085,836018.29354147951,2926412.6006458881,4529187.6653928924,1811372.9693398753,6340560.6347327679]
[null,11,"Profesional Gestión Bancaria 5",{"$f":"+'1'!F28","v":804754.57153846242},321848.15148546337,1126602.7230239259,1609509.1430769248,643696.30297092674,2253205.4460478518,3487269.8100000094,1394675.3231036768,4881945.1331036864]
[null,12,"Director de División /Director de Supervisión /Director en Investigación\n/Profesional en Investigación",{"$f":"+'1'!F29","v":1280367.8200429294},512061.72748357488,1792429.5475265044,2560735.6400858588,1024123.4549671498,3584859.0950530088,5548260.5535193691,2218934.1524288277,7767194.7059481964]
[null,"12 AI","Director de División con prohibición",{"$f":"+'1'!F30","v":1536059.6200429294},614321.39284051489,2150381.0128834443,3072119.2400858589,1228642.7856810298,4300762.0257668886,6656258.3535193717,2662059.368975569,9318317.7224949412]
[null,13,"Economista en Jefe",{"$f":"+'1'!F31","v":1508879.640340386},603451.2138641437,2112330.8542045299,3017759.2806807719,1206902.4277282874,4224661.7084090598,6538478.4414750161,2614955.2600779599,9153433.7015529759]
[null,{"$f":"+'1'!B32:H32","v":"Rigen a partir del 1° de enero 2017, según acuerdo de Junta Directiva de la sesión 5754-2017, artículo 8 del 25 de enero del 2017."}]
[null,"ESCALA SERVICIOS ESPECIALES"]
[null,null,null,"Montos semanales en colones",null,null,"Montos bisemanales en colones",null,null,"Montos mensuales promedio"]
[null,"Categoría","Puesto","Salario Contratación Semanal","Cargas Patronales","Salario semanal con Cargas Patronales","Salario Bisemanal","Cargas Patronales","Salario Bisemanal con Cargas Patronales","Salario Mensual","Cargas Patronales","Salario Mensual con Cargas Patronales"]
[null,5,"Asesor Técnico",{"$f":"+D19","v":173890.68042000002},{"$f":"+D37*0.3999333","v":69544.67365961599},{"$f":"+D37+E37","v":243435.35407961602},{"$f":"+D37*2","v":347781.36084000004},{"$f":"+G37*0.3999333","v":139089.34731923198},{"$f":"+G37+H37","v":486870.70815923205},{"$f":"+G37*2.16666666666667","v":753526.28182000131},{"$f":"+J37*0.3999333","v":301360.2525250031},{"$f":"+J37+K37","v":1054886.5343450045}]
[null,6,"Asesor 1",{"$f":"+D20","v":246241.40358000001},{"$f":"+D38*0.3999333","v":98480.137130381219},{"$f":"+D38+E38","v":344721.54071038123},492482.80716000003,{"$f":"+G38*0.3999333","v":196960.27426076244},{"$f":"+G38+H38","v":689443.08142076246},1067046.0821800018,{"$f":"+J38*0.3999333","v":426747.26089831931},{"$f":"+J38+K38","v":1493793.3430783211}]
[null,7,"Asesor 2",{"$f":"+D21","v":308378.04618025402},123330.64965642139,431708.69583667541,616756.09236050805,246661.29931284278,863417.39167335082,1336304.866781103,534432.81517782691,1870737.6819589299]
[null,8,"Asesor 3",{"$f":"+D23","v":383249.36729723448},153274.18418609505,536523.5514833295,766498.73459446896,306548.3683721901,1073047.102966659,1660747.2582880186,664188.13147307967,2324935.3897610982]
[null,9,"Asesor 4",{"$f":"+D25","v":472895.39028274093},189126.61399056451,662022.00427330541,945790.78056548187,378253.22798112902,1324044.0085466108,2049213.3578918807,819548.66062578082,2868762.0185176614]
[null,12,"Asesor en Investigación",{"$f":"+D30","v":1280367.8200429294},512061.72748357488,1792429.5475265044,2560735.6400858588,1024123.4549671498,3584859.0950530088,5548260.5535193691,2218934.1524288277,7767194.7059481964]
[]
[null,"ESCALA GERENCIAL DE BÁSICO MÁS PLUSES"]
[null,null,null,"Montos semanales en colones",null,null,"Montos bisemanales en colones",null,null,"Montos mensuales promedio"]
[null,"Categoría","Puesto","Salario Contratación Semanal","Cargas Patronales","Salario semanal con Cargas Patronales","Salario Bisemanal","Cargas Patronales","Salario Bisemanal con Cargas Patronales","Salario Mensual","Cargas Patronales","Salario Mensual con Cargas Patronales"]
[null,null,"Subauditor interno"]
[null,1,"Subauditor interno",{"$f":"+'1'!F45","v":385850},{"$f":"+D48*0.3999333","v":154314.263805},{"$f":"+D48+E48","v":540164.263805},{"$f":"+D48*2","v":771700},{"$f":"+G48*0.3999333","v":308628.52760999999},{"$f":"+G48+H48","v":1080328.52761},{"$f":"+G48*2.16666666666667","v":1672016.6666666693},{"$f":"+J48*0.3999333","v":668695.14315500099},{"$f":"+J48+K48","v":2340711.8098216704}]
[null,2,"Auditor interno",{"$f":"+'1'!F46","v":488743},195464.60084189998,684207.60084189998,{"$f":"+D49*2","v":977486},390929.20168379997,1368415.2016838,{"$f":"+G49*2.16666666666667","v":2117886.3333333367},847013.27031490137,2964899.6036482379]
[null,3,"Subgerente - Intendente",{"$f":"+'1'!F47","v":618002},247159.57926659999,865161.57926659996,1236004,494319.15853319998,1730323.1585331999,2678008.6666666707,1071024.8434886015,3749033.5101552722]
[null,4,"Gerente - Superintendente",{"$f":"+'1'!F48","v":635414},254123.2178862,889537.21788619994,1270828,508246.4357724,1779074.4357723999,2753460.6666666712,1101200.6108402018,3854661.277506873]
[null,{"$f":"+B10","v":"Montos congelados con base en el artículo 4 del acta de la sesión de la Junta Directiva del BCCR 5676-2015, celebrada el 21 de enero del 2015, mantienen dicha condición con base en el artículo 4 del acta de la sesión 5714-2016, celebrada el 9 de marzo del 2016 y se mantiene en dicha condición según la sesión 5754-2017, artículo 8 del 25 de enero del 2017."}]
[null,"ESCALA REGULAR DE BÁSICO MÁS PLUSES"]
[null,null,null,"Montos semanales en colones",null,null,"Montos bisemanales en colones",null,null,"Montos mensuales promedio"]
[null,"Categoría","Puesto","Salario Contratación Semanal","Cargas Patronales","Salario semanal con Cargas Patronales","Salario Bisemanal","Cargas Patronales","Salario Bisemanal con Cargas Patronales","Salario Mensual","Cargas Patronales","Salario Mensual con Cargas Patronales"]
[null,4,"Asistente Servicios Generales 1",{"$f":"+'1'!F52","v":45683},{"$f":"+D56*0.3999333","v":18270.152943900001},{"$f":"+D56+E56","v":63953.152943900001},{"$f":"+D56*2","v":91366},{"$f":"+G56*0.3999333","v":36540.305887800001},{"$f":"+G56+H56","v":127906.3058878},{"$f":"+G56*2.16666666666667","v":197959.66666666698},{"$f":"+J56*0.3999333","v":79170.662756900128},{"$f":"+J56+K56","v":277130.32942356711}]
[null,5,"Asistente Servicios Generales 1",{"$f":"+'1'!F53","v":48668},19463.953844399999,68131.953844400006,97336,38927.907688799998,136263.90768880001,210894.66666666701,84343.799992400134,295238.46665906714]
[null,6,"Asistente Servicios Generales 2 ",{"$f":"+'1'!F54","v":51869},20744.140337699999,72613.140337699995,103738,41488.280675399998,145226.28067539999,224765.66666666701,89891.274796700134,314656.94146336714]
[null,7,"Asistente Servicios Generales 2 ",{"$f":"+'1'!F55","v":55289},22111.912223700001,77400.912223699997,110578,44223.824447400002,154801.82444739999,239585.66666666704,95818.286302700144,335403.95296936715]
[null,8,"Asistente Servicios Institucionales 1",{"$f":"+'1'!F56","v":58949},23575.668101700001,82524.668101699994,117898,47151.336203400002,165049.33620339999,255445.66666666706,102161.22844070016,357606.89510736719]
[null,9,"Asistente Servicios Institucionales 2",{"$f":"+'1'!F57","v":62862},25140.6071046,88002.6071046,125724,50281.214209199999,176005.2142092,272402.00000000041,108942.63078660016,381344.63078660058]
[null,10,"Técnico Servicios Institucionales 1",{"$f":"+'1'!F58","v":67050},26815.527764999999,93865.527765000006,134100,53631.055529999998,187731.05553000001,290550.00000000047,116200.62031500018,406750.62031500065]
[null,12,"Técnico Servicios Institucionales 2",{"$f":"+'1'!F59","v":82454},32976.100318199999,{"$f":"+D63+E63","v":115430.1003182},164908,65952.200636399997,230860.2006364,357300.66666666721,142896.43471220022,500197.1013788674]
[null,19,"Profesional Gestión Bancaria (PGB) 1 / Profesional en Enfermerería",{"$f":"+'1'!F60","v":120747},48290.746175100001,169037.74617510001,241494,96581.492350200002,338075.49235020002,523237.00000000081,209259.90009210032,732496.90009210119]
[null,21,"Profesional Gestión Informática (PGI) 1 / PGB 2 / Supervisor 1",{"$f":"+'1'!F61","v":137805},55112.8084065,192917.8084065,275610,110225.616813,385835.616813,597155.00000000093,238822.16976150038,835977.16976150125]
[null,22,"Supervisor 2 /Supervisor TI /PGB 3 \n/PGI 2",{"$f":"+'1'!F62","v":153132},61242.586095599996,214374.58609559998,306264,122485.17219119999,428749.17219119996,663572.00000000105,265384.53974760039,928956.53974760137]
[null,25,"Ejecutivo de área /Supervisor Principal /PGB 4 /PGI 3",{"$f":"+'1'!F63","v":190720},76275.278976000001,266995.27897600003,381440,152550.557952,533990.55795200006,826453.33333333465,330526.20889600052,1156979.5422293353]
[null,31,"Director de Departamento /Líder de Supervisión /Director de Despacho /Analista Experto",{"$f":"+'1'!F64","v":271260},108485.90695799999,379745.90695799998,542520,216971.81391599998,759491.81391599996,1175460.0000000019,470105.59681800072,1645565.5968180026]
[null,32,"Profesional Gestión Bancaria 5",{"$f":"+'1'!F65","v":294992},117977.1240336,412969.12403359998,589984,235954.24806720001,825938.24806719995,1278298.6666666686,511234.20414560079,1789532.8708122694]
[null,36,"Director de División /Director de Supervisión /Director en Investigación\n/Profesional en Investigación",{"$f":"+'1'!F66","v":393372},157322.5620876,550694.5620876,786744,314645.12417520001,1101389.1241752,1704612.0000000028,681731.1023796011,2386343.1023796038]
[null,37,"Economista en Jefe",{"$f":"+'1'!F67","v":461939},184744.7886687,646683.78866870003,923878,369489.5773374,1293367.5773374001,2001735.6666666698,800560.75089770125,2802296.4175643711]
[null,{"$f":"+B33","v":"Rigen a partir del 1° de enero 2017, según acuerdo de Junta Directiva de la sesión 5754-2017, artículo 8 del 25 de enero del 2017."}]

{"sheet":"EG","index":2,"n_rows":12,"n_cols":8,"rows_kept":12,"cut":false,"hidden":false,"merged":[[11,1,11,5]]}
[null,null,null,null,null,null,null,">"]
[]
[]
[null,null,"ESCALA GERENCIAL  \n(Montos semanales)"]
[null,null,"Puesto","Categoría","Salario Único (Escala Global)","Salario base (Escala de Básico Más Pluses)"]
[null,null,"Presidente",5,{"$f":"+'1'!D8","v":1696950}]
[null,null,"Gerente - Superintendente",4,{"$f":"+'1'!D7","v":1603715},{"$f":"+'1'!D48","v":635414}]
[null,null,"Subgerente - Intendente",3,{"$f":"+'1'!D6","v":1181206},{"$f":"+'1'!D47","v":618002}]
[null,null,"Auditor interno",2,{"$f":"+'1'!D5","v":1122147},{"$f":"+'1'!D46","v":488743}]
[null,null,"Subauditor interno",1,{"$f":"+'1'!D4","v":885905},{"$f":"+'1'!D45","v":385850}]
[]
[null,{"$f":"+'1'!B9:H9","v":"Montos congelados con base en el artículo 4 del acta de la sesión de la Junta Directiva del BCCR 5676-2015, celebrada el 21 de enero del 2015, mantienen dicha condición con base en el artículo 4 del acta de la sesión 5714-2016, celebrada el 9 de marzo del 2016 y se mantiene en dicha condición según la sesión 5754-2017, artículo 8 del 25 de enero del 2017."}]

{"sheet":"Equivalencias","index":3,"n_rows":28,"n_cols":4,"rows_kept":28,"cut":false,"hidden":false,"merged":[[0,1,0,3],[1,1,1,3]]}
[null,{"$f":"+RIGHT('1'!B1,8)","v":"AÑO 2017"}]
[null,"TABLA DE EQUIVALENCIAS  ESCALA REGULAR"]
[]
[null,"Puesto","Categorías Escala Global","Categorías Básico Más Pluses"]
[null,"Economista en Jefe",13,37]
[null,"Director de División\nDirector de Supervisión\nDirector en Investigación\nProfesional en Investigación",12,36]
[null,"Profesional Gestión Bancaria 5",11,32]
[null,"Director de Departamento,\nLíder de Supervisión,\nDirector de Despacho, Analista Experto\nAsesor 5 (Servicios Especiales)",10,31]
[null,"Ejecutivo de Área\nSupervisor Principal\nProfesional Gestión Bancaria 4\nProfesional Gestión Auditoría Interna 4\nProfesional Gestión Informática 3\nAsesor 4 (Servicios Especiales)",9,25]
[null,"Profesional Gestión Bancaria 3\nProfesional Gestión Auditoría Interna 3\nProfesional Gestión Informática 2\nSupervisor 2\nSupervisor TI\nAsesor 3 (Servicios Especiales)",8,22]
[null,"Profesional Gestión Bancaria 2\nProfesional Gestión Informática 1\nSupervisor 1\nAsesor 2 (Servicios Especiales)",7,21]
[null,"Profesional Gestión Bancaria 1\nAsesor 1 (Servicios Especiales)",6,19]
[null,"Técnico Servicios Institucionales 2",5,12]
[null,"Técnico Servicios Institucionales 1",4,10]
[null,"Asistente Servicios Institucionales 2",3,9]
[null,"Asistente Servicios Institucionales 1",2,8]
[null,"Asistente Servicios Generales 2",2,"6 – 7"]
[null,"Asistente Servicios Generales 1",1," 4 – 5"]
[]
[]
[null,"TABLA DE EQUIVALENCIAS  ESCALA GERENCIAL"]
[null,"Puesto","Categorías Escala Global","Categorías Básico Más Pluses"]
[null,"Presidente",5,"--"]
[null,"Gerente - Superintendente",4,4]
[null,"Subgerente - Intendente",3,"3 *"]
[null,"Auditor interno",2,2]
[null,"Subauditor Interno","1 *",1]
[null,"* No hay funcionarios ubicados en dichas categorías"]

{"sheet":"Escala con puestos","index":4,"n_rows":21,"n_cols":10,"rows_kept":21,"cut":false,"hidden":false,"merged":[[20,1,20,9],[16,5,17,5],[18,3,19,3],[16,4,17,4],[1,1,2,1],[16,1,17,1],[16,3,17,3],[18,1,19,1],[18,4,19,4],[16,2,17,2],[1,6,1,9],[1,3,1,4]]}
[null,{"$f":"'1'!B1 & \" (Montos Semanales)\"","v":"ESCALAS SALARIALES VIGENTES BANCO CENTRAL Y ENTES DESCONCENTRADOS \nAÑO 2017 (Montos Semanales)"}]
[null,"CLASE DE PUESTO",null,"ESCALA  REGULAR GLOBAL",null,null,"ESCALA REGULAR DE BÁSICO MÁS  PLUSES"]
[null,null,null,"CAT","SALARIO ÚNICO",null,"CAT","SALARIO BASE ","COSTO DE VIDA","TOTAL"]
[null,"Economista en Jefe",null,13,{"$f":"+'1'!D31","v":1508879.640340386},null,37,{"$f":"+'1'!D67","v":458927},{"$f":"+'1'!$E$67","v":3012},{"$f":"+H4+I4","v":461939}]
[null,"Director de División - Director de Supervisión - Director en Investigación - PI",null,12,{"$f":"+'1'!D29","v":1280367.8200429294},null,36,{"$f":"+'1'!D66","v":390360},{"$f":"+'1'!$E$67","v":3012},{"$f":"+H5+I5","v":393372}]
[null,"Profesional en Gestión Bancaria 5",null,11,{"$f":"+'1'!D28","v":804754.57153846242},null,32,{"$f":"+'1'!D65","v":291980},{"$f":"+'1'!$E$67","v":3012},{"$f":"+H6+I6","v":294992}]
[null,"Director de Departamento - Líder de Supervisión - Director Despacho - Analista Experto - Asesor 5",null,10,{"$f":"+'1'!D26","v":868878.15355220425},null,31,{"$f":"+'1'!D64","v":268248},{"$f":"+'1'!$E$67","v":3012},271260]
[null,"Ejecutivo de Área - Supervisor Principal",null,9,{"$f":"+E9","v":472895.39028274093},null,25,{"$f":"+'1'!D63","v":187708},{"$f":"+'1'!$E$67","v":3012},190720]
[null,"P.G.B. 4 - P.G.A.I. 4 -  P.G.I. 3 - Asesor 4",null,9,{"$f":"+'1'!D24","v":472895.39028274093},null,25,{"$f":"+H8","v":187708},{"$f":"+'1'!$E$67","v":3012},190720]
[null,"P.G.B. 3 - P.G.A.I. 3 - P.G.I. 2 - Supervisor 2 - Supervisor TI - Asesor 3",null,8,{"$f":"+'1'!D22","v":383249.36729723448},null,22,{"$f":"+'1'!D62","v":150120},{"$f":"+'1'!$E$67","v":3012},153132]
[null,"P.G.B. 2 - P.G.I.1 - Supervisor 1 - Asesor 2",null,7,{"$f":"+'1'!D20","v":308378.04618025402},null,21,{"$f":"+'1'!D61","v":134793},{"$f":"+'1'!$E$67","v":3012},137805]
[null,"P.G.B. 1 - Asesor 1",null,6,{"$f":"+'1'!D18","v":246241.40358000001},null,19,{"$f":"+'1'!D60","v":117735},{"$f":"+'1'!$E$67","v":3012},120747]
[null,"Técnico Servicios Institucionales 2",null,5,{"$f":"+'1'!D17","v":173890.68042000002},null,12,{"$f":"+'1'!D59","v":79442},{"$f":"+'1'!$E$67","v":3012},82454]
[null,"Técnico Servicios Institucionales 1",null,4,{"$f":"+'1'!D16","v":161868.39288},null,10,{"$f":"+'1'!D58","v":64038},{"$f":"+'1'!$E$67","v":3012},67050]
[null,"Asistente Servicios Institucionales 2",null,3,{"$f":"+'1'!D15","v":140558.90264473957},null,9,{"$f":"+'1'!D57","v":59850},{"$f":"+'1'!$E$67","v":3012},62862]
[null,"Asistente Servicios Institucionales 1",null,2,{"$f":"+E17","v":115264.07108000001},null,8,{"$f":"+'1'!D56","v":55937},{"$f":"+'1'!$E$67","v":3012},58949]
[null,"Asistente Servicios Generales 2",null,2,{"$f":"+'1'!D14","v":115264.07108000001},null,7,{"$f":"+'1'!D55","v":52277},{"$f":"+'1'!$E$67","v":3012},55289]
[null,null,null,null,null,null,6,{"$f":"+'1'!D54","v":48857},{"$f":"+'1'!$E$67","v":3012},51869]
[null,"Asistente Servicios Generales 1",null,1,{"$f":"+'1'!D13","v":93647},null,5,{"$f":"+'1'!D53","v":45656},{"$f":"+'1'!$E$67","v":3012},48668]
[null,null,null,null,null,null,4,{"$f":"+'1'!D52","v":42671},{"$f":"+'1'!$E$67","v":3012},45683]
[null,{"$f":"+'1CONCARGAS'!B33:J33","v":"Rigen a partir del 1° de enero 2017, según acuerdo de Junta Directiva de la sesión 5754-2017, artículo 8 del 25 de enero del 2017."}]

{"sheet":"Homologación","index":5,"n_rows":39,"n_cols":12,"rows_kept":39,"cut":false,"hidden":false,"merged":[[17,10,19,10],[17,11,19,11],[29,0,29,11],[20,10,21,10],[20,11,21,11],[27,4,28,4],[17,6,19,6],[17,7,19,7],[12,1,14,1],[17,8,19,8],[17,9,19,9],[17,1,19,1],[24,1,26,1],[24,2,26,2],[24,3,26,3],[24,4,26,4],[15,1,16,1],[15,9,16,9],[8,10,9,10],[2,6,2,11],[10,9,11,9],[12,9,14,9],[12,10,14,10],[12,11,14,11],[5,6,6,6],[5,9,6,9],[5,10,6,10],[12,7,14,7],[12,8,14,8],[10,10,11,10],[12,6,14,6],[10,11,11,11],[15,10,16,10],[15,11,16,11],[10,8,11,8],[15,6,16,6],[15,7,16,7],[15,8,16,8],[0,0,0,11],[5,1,6,1],[8,1,9,1],[10,1,11,1],[10,6,11,6],[5,7,6,7],[5,8,6,8],[8,7,9,7],[8,8,9,8],[10,7,11,7],[2,0,3,0],[8,11,9,11],[2,1,2,4],[5,11,6,11],[8,6,9,6],[8,9,9,9],[38,0,38,11],[20,1,21,1],[20,6,21,6],[20,9,21,9],[31,0,32,0],[27,0,28,0],[32,4,32,5],[20,7,21,7],[20,8,21,8],[31,1,31,7],[31,8,31,11],[27,3,28,3],[27,1,28,1],[27,2,28,2],[25,0,26,0]]}
["ESCALAS SALARIALES VIGENTES BANCO CENTRAL Y ENTES DESCONCENTRADOS AÑO 2017"]
[]
["CLASE DE PUESTO","ESCALA GLOBAL",null,null,null,null,"ESCALA REGULAR + PLUSES"]
[null,"Cat.","Salario Único Global Semanal","Salario Único Global Bisemanal","Salario Único Global Mensual (Promedio)",null,"Cat.","Salario base Semanal","Costo de Vida","Salario básico pluses + Costo de Vida Semanal","Salario básico pluses + Costo de Vida Bisemanal","Salario básico pluses + Costo de Vida Mensual (Promedio)"]
["Economista en Jefe",13,{"$f":"+'1'!F31","v":1508879.640340386},{"$f":"+C5*2","v":3017759.2806807719},{"$f":"+D5*2.16666666666667","v":6538478.4414750161},null,37,{"$f":"+'1'!D67","v":458927},{"$f":"+'1'!E67","v":3012},{"$f":"+'1'!F67","v":461939},{"$f":"+J5*2","v":923878},{"$f":"+K5*2.16666666666667","v":2001735.6666666698}]
["Director de División - Director de Supervisión - Director en Investigación - PI",12,{"$f":"+'1'!F29","v":1280367.8200429294},2560735.6400858588,5548260.5535193691,null,36,{"$f":"+'1'!D66","v":390360},{"$f":"+'1'!E66","v":3012},{"$f":"+'1'!F66","v":393372},{"$f":"+J6*2","v":786744},{"$f":"+K6*2.16666666666667","v":1704612.0000000028}]
["Director División Auditoría Interna (incluye prohibición)",null,{"$f":"+'1'!F30","v":1536059.6200429294},3072119.2400858589,6656258.3535193717,null,null,null,null,null,null,0]
["Profesional en Gestión Bancaria 5",11,{"$f":"+'1'!F28","v":804754.57153846242},1609509.1430769248,3487269.8100000094,null,32,{"$f":"+'1'!D65","v":291980},{"$f":"+'1'!E65","v":3012},{"$f":"+'1'!F65","v":294992},589984,1278298.6666666686]
["Director de Departamento - Líder de Supervisión - Director Despacho - Analista Experto - Asesor 5",10,{"$f":"+'1'!F26","v":868878.15355220425},1737756.3071044085,3765138.665392891,null,31,{"$f":"+'1'!D64","v":268248},{"$f":"+'1'!E64","v":3012},{"$f":"+'1'!F64","v":271260},542520,1175460.0000000019]
["Director Departamento Auditoría Interna (incluye prohibición)",null,{"$f":"+'1'!F27","v":1045197.1535522043},2090394.3071044085,4529187.6653928924,null,null,null,null,null,null,0]
["Ejecutivo de Área - Supervisor Principal - P.G.B. 4 - P.G.I. 3 - Asesor 4",9,{"$f":"+'1'!F24","v":472895.39028274093},945790.78056548187,2049213.3578918807,null,25,{"$f":"+'1'!D63","v":187708},{"$f":"+'1'!E63","v":3012},{"$f":"+'1'!F63","v":190720},381440,826453.33333333465]
[" P.G.A.I. 4 (incluye prohibición)",null,{"$f":"+'1'!F25","v":596863.39028274093},1193726.7805654819,2586408.0245585479,null,null,null,null,null,null,0]
["P.G.B. 3 - P.G.I. 2 - Supervisor 2 - Supervisor TI - Asesor 3",8,{"$f":"+'1'!F22","v":383249.36729723448},766498.73459446896,1660747.2582880186,null,22,{"$f":"+'1'!D62","v":150120},{"$f":"+'1'!E62","v":3012},{"$f":"+'1'!F62","v":153132},306264,663572.00000000105]
[" P.G.A.I. 3 (incluye prohibición)",null,{"$f":"+'1'!F23","v":482785.16729723447},965570.33459446894,2092069.0582880194,null,null,null,null,null,null,0]
["Médico (1/2 tiempo)",null,{"$f":"+C13/2","v":191624.68364861724},383249.36729723448,830373.62914400932,null,null,null,null,null,null,0]
["P.G.B. 2 - P.G.I.1 - Supervisor 1 - Asesor 2",7,{"$f":"+'1'!F20","v":308378.04618025402},616756.09236050805,1336304.866781103,null,21,{"$f":"+'1'!D61","v":134793},{"$f":"+'1'!E61","v":3012},{"$f":"+'1'!F61","v":137805},275610,597155.00000000093]
[" P.G.A.I. 2 (incluye prohibición)",null,{"$f":"+'1'!F21","v":397951.29618025402},795902.59236050805,1724455.6167811034,null,null,null,null,null,null,0]
["P.G.B. 1 - Asesor 1",6,{"$f":"+'1'!F18","v":246241.40358000001},492482.80716000003,1067046.0821800018,null,19,{"$f":"+'1'!D60","v":117735},{"$f":"+'1'!E60","v":3012},{"$f":"+'1'!F60","v":120747},241494,523237.00000000081]
[" P.G.B. 1 (incluye prohibición)",null,{"$f":"+'1'!F19","v":324726.95358000003},{"$f":"+C19*2","v":649453.90716000006},1407150.1321800023]
["Enfermero (1/2 tiempo)",null,{"$f":"+C18/2","v":123120.70179000001},246241.40358000001,533523.04109000089,null,null,null,null,null,null,0]
["Técnico Servicios Institucionales 2 - Asesor TSI2",5,{"$f":"+'1'!F17","v":173890.68042000002},347781.36084000004,753526.28182000131,null,12,{"$f":"+'1'!D59","v":79442},{"$f":"+'1'!E59","v":3012},{"$f":"+'1'!F59","v":82454},164908,357300.66666666721]
["Enfermero (1/2 tiempo)",null,{"$f":"+C21/2","v":86945.340210000009},173890.68042000002,376763.14091000066,null,null,null,null,null,null,0]
["Técnico Servicios Institucionales 1",4,{"$f":"+'1'!F16","v":161868.39288},323736.78576,701429.70248000114,null,10,{"$f":"+'1'!D58","v":64038},{"$f":"+'1'!E58","v":3012},{"$f":"+'1'!F58","v":67050},134100,290550.00000000047]
["Asistente Servicios Institucionales 2",3,{"$f":"+'1'!F15","v":140558.90264473957},281117.80528947915,609088.57812720572,null,9,{"$f":"+'1'!D57","v":59850},{"$f":"+'1'!E57","v":3012},{"$f":"+'1'!F57","v":62862},125724,272402.00000000041]
["Asistente Servicios Institucionales 1",2,{"$f":"+'1'!F14","v":115264.07108000001},230528.14216000002,499477.64134666749,null,8,{"$f":"+'1'!D56","v":55937},{"$f":"+'1'!E56","v":3012},{"$f":"+'1'!F56","v":58949},117898,255445.66666666706]
["Asistente Servicios Generales 2",null,null,null,null,null,7,{"$f":"+'1'!D55","v":52277},{"$f":"+'1'!E55","v":3012},{"$f":"+'1'!F55","v":55289},110578,239585.66666666704]
[null,null,null,null,null,null,6,{"$f":"+'1'!D54","v":48857},{"$f":"+'1'!E54","v":3012},{"$f":"+'1'!F54","v":51869},103738,224765.66666666701]
["Asistente Servicios Generales 1",1,{"$f":"+'1'!F13","v":93647},{"$f":"+C28*2","v":187294},{"$f":"+D28*2.16666666666667","v":405803.66666666733},null,5,{"$f":"+'1'!D53","v":45656},{"$f":"+'1'!E53","v":3012},{"$f":"+'1'!F53","v":48668},97336,210894.66666666701]
[null,null,null,null,null,null,4,{"$f":"+'1'!D52","v":42671},{"$f":"+'1'!E52","v":3012},{"$f":"+'1'!F52","v":45683},91366,197959.66666666698]
["Rigen a partir del 1° de enero 2017, según acuerdo de Junta Directiva de la sesión 5754-2017, artículo 8 del 25 de enero del 2017."]
[]
["CLASE DE PUESTO - ESCALA GERENCIAL","ESCALA GLOBAL",null,null,null,null,null,null,"ESCALA PLUSES"]
[null,"Cat.","Salario semanal","Prohibición","Salario semanal",null,"Salario bisemanal","Salario mensual (Promedio)","Cat.","Salario base semanal","Salario bisemanal","Salario mensual (Promedio)"]
["Presidente",5,{"$f":"+'1'!D8","v":1696950},{"$f":"+'1'!E8","v":632962.35},{"$f":"+'1'!F8","v":2329912.35},{"$f":"+'1'!G8","v":4659824.7},{"$f":"+'1'!G8","v":4659824.7},{"$f":"+'1'!H8","v":10096286.850000016},5,0,0,"-"]
["Gerente - Superintendente",4,{"$f":"+'1'!D7","v":1603715},{"$f":"+'1'!E7","v":598186},{"$f":"+'1'!F7","v":2201901},{"$f":"+'1'!G7","v":4403802},{"$f":"+'1'!G7","v":4403802},{"$f":"+'1'!H7","v":9541571.0000000149},4,{"$f":"+'1'!D48","v":635414},{"$f":"+'[2]1'!E51","v":1270828},{"$f":"+'[2]1'!F51","v":2753460.6666666712}]
["Subgerente - Intendente",3,{"$f":"+'1'!D6","v":1181206},{"$f":"+'1'!E6","v":440590},{"$f":"+'1'!F6","v":1621796},{"$f":"+'1'!G6","v":3243592},{"$f":"+'1'!G6","v":3243592},{"$f":"+'1'!H6","v":7027782.6666666782},3,{"$f":"+'1'!D47","v":618002},{"$f":"+'[2]1'!E50","v":1236004},{"$f":"+'[2]1'!F50","v":2678008.6666666707}]
["Auditor interno",2,{"$f":"+'1'!D5","v":1122147},{"$f":"+'1'!E5","v":418561},{"$f":"+'1'!F5","v":1540708},{"$f":"+'1'!G5","v":3081416},{"$f":"+'1'!G5","v":3081416},{"$f":"+'1'!H5","v":6676401.3333333442},2,{"$f":"+'1'!D46","v":488743},{"$f":"+'[2]1'!E49","v":977486},{"$f":"+'[2]1'!F49","v":2117886.3333333367}]
["Subauditor interno",1,{"$f":"+'1'!D4","v":885905},{"$f":"+'1'!E4","v":330443},{"$f":"+'1'!F4","v":1216348},{"$f":"+'1'!G4","v":2432696},{"$f":"+'1'!G4","v":2432696},{"$f":"+'1'!H4","v":5270841.3333333414},1,{"$f":"+'1'!D45","v":385850},{"$f":"+'[2]1'!E48","v":771700},{"$f":"+'[2]1'!F48","v":1672016.6666666693}]
["Montos congelados con base en el artículo 4 del acta de la sesión de la Junta Directiva del BCCR 5676-2015, celebrada el 21 de enero del 2015, mantienen dicha condición con base en el artículo 4 del acta de la sesión 5714-2016, celebrada el 9 de marzo del 2016 y se mantiene en dicha condición según la sesión 5754-2017, artículo 8 del 25 de enero del 2017."]

{"sheet":"Escala con puestos (2)","index":6,"n_rows":26,"n_cols":10,"rows_kept":26,"cut":false,"hidden":true,"merged":[[23,1,24,1],[23,3,24,3],[23,4,24,4],[25,1,25,9],[1,1,2,1],[1,3,1,4],[1,6,1,9],[21,1,22,1],[21,2,22,2],[21,3,22,3],[21,4,22,4],[21,5,22,5]]}
[null,{"$f":"'1'!B1 & \" (Montos Semanales)\"","v":"ESCALAS SALARIALES VIGENTES BANCO CENTRAL Y ENTES DESCONCENTRADOS \nAÑO 2017 (Montos Semanales)"}]
[null,"CLASE DE PUESTO",null,"ESCALA  REGULAR GLOBAL",null,null,"ESCALA REGULAR DE BÁSICO MÁS  PLUSES"]
[null,null,null,"CAT","SALARIO ÚNICO",null,"CAT","SALARIO BASE ","COSTO DE VIDA","TOTAL"]
[null,"Economista en Jefe",null,13,{"$f":"+'1'!D31","v":1508879.640340386},null,37,{"$f":"+'1'!D67","v":458927},{"$f":"+'1'!$E$67","v":3012},{"$f":"+H4+I4","v":461939}]
[null,"Director de División - Director de Supervisión - Director en Investigación - PI",null,12,{"$f":"+'1'!D29","v":1280367.8200429294},null,36,{"$f":"+'1'!D66","v":390360},{"$f":"+'1'!$E$67","v":3012},{"$f":"+H5+I5","v":393372}]
[null,"Director de División  (con prohibición)",null,12]
[null,"Profesional en Gestión Bancaria 5",null,11,{"$f":"+'1'!D28","v":804754.57153846242},null,32,{"$f":"+'1'!D65","v":291980},{"$f":"+'1'!$E$67","v":3012},{"$f":"+H7+I7","v":294992}]
[null,"Director de Departamento - Líder de Supervisión - Director Despacho - Analista Experto - Asesor 5",null,10,{"$f":"+'1'!D26","v":868878.15355220425},null,31,{"$f":"+'1'!D64","v":268248},{"$f":"+'1'!$E$67","v":3012},271260]
[null,"Director de Departamento  (con prohibición)",null,10]
[null,"Ejecutivo de Área - Supervisor Principal, P.G.B. 4 -  P.G.I. 3 - Asesor 4",null,9,{"$f":"+'1'!D24","v":472895.39028274093},null,25,{"$f":"+'1'!D63","v":187708},{"$f":"+'1'!$E$67","v":3012},190720]
[null,"P.G.A.I. 4 (con prohibición)",null,9,{"$f":"+'1'!D24","v":472895.39028274093}]
[null,"P.G.B. 3 - P.G.A.I. 3 - P.G.I. 2 - Supervisor 2 - Supervisor TI - Asesor 3",null,8,{"$f":"+'1'!D22","v":383249.36729723448},null,22,{"$f":"+'1'!D62","v":150120},{"$f":"+'1'!$E$67","v":3012},153132]
[null,"P.G.B. 3  (con prohibición)",null,8,null,null,22]
[null,"Médico (1/2 tiempo)",null,8,null,null,22]
[null,"P.G.B. 2 - P.G.I.1 - Supervisor 1 - Asesor 2",null,7,{"$f":"+'1'!D20","v":308378.04618025402},null,21,{"$f":"+'1'!D61","v":134793},{"$f":"+'1'!$E$67","v":3012},137805]
[null,"P.G.B. 1 - Asesor 1",null,6,{"$f":"+'1'!D18","v":246241.40358000001},null,19,{"$f":"+'1'!D60","v":117735},{"$f":"+'1'!$E$67","v":3012},120747]
[null,"Enfermera profesional (Medio tiempo)",null,6]
[null,"Técnico Servicios Institucionales 2",null,5,{"$f":"+'1'!D17","v":173890.68042000002},null,12,{"$f":"+'1'!D59","v":79442},{"$f":"+'1'!$E$67","v":3012},82454]
[null,"Técnico Servicios Institucionales 1",null,4,{"$f":"+'1'!D16","v":161868.39288},null,10,{"$f":"+'1'!D58","v":64038},{"$f":"+'1'!$E$67","v":3012},67050]
[null,"Asistente Servicios Institucionales 2",null,3,{"$f":"+'1'!D15","v":140558.90264473957},null,9,{"$f":"+'1'!D57","v":59850},{"$f":"+'1'!$E$67","v":3012},62862]
[null,"Asistente Servicios Institucionales 1",null,2,{"$f":"+E22","v":115264.07108000001},null,8,{"$f":"+'1'!D56","v":55937},{"$f":"+'1'!$E$67","v":3012},58949]
[null,"Asistente Servicios Generales 2",null,2,{"$f":"+'1'!D14","v":115264.07108000001},null,7,{"$f":"+'1'!D55","v":52277},{"$f":"+'1'!$E$67","v":3012},55289]
[null,null,null,null,null,null,6,{"$f":"+'1'!D54","v":48857},{"$f":"+'1'!$E$67","v":3012},51869]
[null,"Asistente Servicios Generales 1",null,1,{"$f":"+'1'!D13","v":93647},null,5,{"$f":"+'1'!D53","v":45656},{"$f":"+'1'!$E$67","v":3012},48668]
[null,null,null,null,null,null,4,{"$f":"+'1'!D52","v":42671},{"$f":"+'1'!$E$67","v":3012},45683]
[null,{"$f":"+'1'!B68:G68","v":"Rigen a partir del 1° de enero 2017, según acuerdo de Junta Directiva de la sesión 5754-2017, artículo 8 del 25 de enero del 2017."}]

{"sheet":"2","index":7,"n_rows":18,"n_cols":5,"rows_kept":18,"cut":false,"hidden":true,"merged":[]}
["CAT","Global","Prohibición","Mer+Proh","PUESTO"]
[1,{"$f":"+#REF!","v":{"$error":"#REF!"}},{"$f":"+#REF!","v":{"$error":"#REF!"}},{"$f":"+B2+C2","v":{"$error":"#REF!"}},"Subauditores internos"]
[2,{"$f":"+#REF!","v":{"$error":"#REF!"}},{"$f":"+#REF!","v":{"$error":"#REF!"}},{"$error":"#REF!"},"Auditor Interno"]
[3,{"$f":"+#REF!","v":{"$error":"#REF!"}},{"$f":"+#REF!","v":{"$error":"#REF!"}},{"$error":"#REF!"}]
[4,{"$f":"+#REF!","v":{"$error":"#REF!"}},{"$f":"+#REF!","v":{"$error":"#REF!"}},{"$error":"#REF!"}]
[5,{"$f":"+#REF!","v":{"$error":"#REF!"}},{"$f":"+#REF!","v":{"$error":"#REF!"}},{"$error":"#REF!"}]
["01",{"$f":"+#REF!","v":{"$error":"#REF!"}},0,{"$error":"#REF!"}]
["02",{"$f":"+#REF!","v":{"$error":"#REF!"}},0,{"$error":"#REF!"}]
["03",{"$f":"+#REF!","v":{"$error":"#REF!"}},0,{"$error":"#REF!"}]
["04",{"$f":"+#REF!","v":{"$error":"#REF!"}},0,{"$error":"#REF!"}]
["05",{"$f":"+#REF!","v":{"$error":"#REF!"}},0,{"$error":"#REF!"}]
["06",{"$f":"+#REF!","v":{"$error":"#REF!"}},0,{"$error":"#REF!"}]
["07",{"$f":"+#REF!","v":{"$error":"#REF!"}},0,{"$error":"#REF!"}]
["08",{"$f":"+#REF!","v":{"$error":"#REF!"}},{"$f":"+#REF!","v":{"$error":"#REF!"}},{"$f":"+B14+C14","v":{"$error":"#REF!"}}]
["09",{"$f":"+#REF!","v":{"$error":"#REF!"}},{"$f":"+#REF!","v":{"$error":"#REF!"}},{"$f":"+B15+C15","v":{"$error":"#REF!"}}]
["10",{"$f":"+#REF!","v":{"$error":"#REF!"}},{"$f":"+#REF!","v":{"$error":"#REF!"}},{"$f":"+B16+C16","v":{"$error":"#REF!"}}]
["11",{"$f":"+#REF!","v":{"$error":"#REF!"}},0,{"$f":"+B17+C17","v":{"$error":"#REF!"}}]
["12",{"$f":"+#REF!","v":{"$error":"#REF!"}},{"$f":"+#REF!*0.65","v":{"$error":"#REF!"}},{"$f":"+B18+C18","v":{"$error":"#REF!"}}]